BEGIN:VCALENDAR
VERSION:2.0
PRODID:-//CWA Local 6222 - ECPv6.15.20//NONSGML v1.0//EN
CALSCALE:GREGORIAN
METHOD:PUBLISH
X-ORIGINAL-URL:https://cwa6222.com
X-WR-CALDESC:Events for CWA Local 6222
REFRESH-INTERVAL;VALUE=DURATION:PT1H
X-Robots-Tag:noindex
X-PUBLISHED-TTL:PT1H
BEGIN:VTIMEZONE
TZID:America/Chicago
BEGIN:DAYLIGHT
TZOFFSETFROM:-0600
TZOFFSETTO:-0500
TZNAME:CDT
DTSTART:20250309T080000
END:DAYLIGHT
BEGIN:STANDARD
TZOFFSETFROM:-0500
TZOFFSETTO:-0600
TZNAME:CST
DTSTART:20251102T070000
END:STANDARD
BEGIN:DAYLIGHT
TZOFFSETFROM:-0600
TZOFFSETTO:-0500
TZNAME:CDT
DTSTART:20260308T080000
END:DAYLIGHT
BEGIN:STANDARD
TZOFFSETFROM:-0500
TZOFFSETTO:-0600
TZNAME:CST
DTSTART:20261101T070000
END:STANDARD
BEGIN:DAYLIGHT
TZOFFSETFROM:-0600
TZOFFSETTO:-0500
TZNAME:CDT
DTSTART:20270314T080000
END:DAYLIGHT
BEGIN:STANDARD
TZOFFSETFROM:-0500
TZOFFSETTO:-0600
TZNAME:CST
DTSTART:20271107T070000
END:STANDARD
END:VTIMEZONE
BEGIN:VEVENT
DTSTART;VALUE=DATE:20260216
DTEND;VALUE=DATE:20260217
DTSTAMP:20260423T112926
CREATED:20260127T162742Z
LAST-MODIFIED:20260127T162742Z
UID:10001130-1771200000-1771286399@cwa6222.com
SUMMARY:Presidents Day
DESCRIPTION:
URL:https://cwa6222.com/event/presidents-day/
END:VEVENT
BEGIN:VEVENT
DTSTART;TZID=America/Chicago:20260219T170000
DTEND;TZID=America/Chicago:20260219T170000
DTSTAMP:20260423T112926
CREATED:20260127T161705Z
LAST-MODIFIED:20260127T161705Z
UID:10001120-1771520400-1771520400@cwa6222.com
SUMMARY:Construction/Engineering Dept Mtg
DESCRIPTION:
URL:https://cwa6222.com/event/construction-engineering-dept-mtg-3/
END:VEVENT
BEGIN:VEVENT
DTSTART;TZID=America/Chicago:20260219T173000
DTEND;TZID=America/Chicago:20260219T173000
DTSTAMP:20260423T112926
CREATED:20260127T161820Z
LAST-MODIFIED:20260127T161820Z
UID:10001121-1771522200-1771522200@cwa6222.com
SUMMARY:System Techs Dept Mtg/Conf
DESCRIPTION:
URL:https://cwa6222.com/event/system-techs-dept-mtg-conf/
END:VEVENT
BEGIN:VEVENT
DTSTART;TZID=America/Chicago:20260219T180000
DTEND;TZID=America/Chicago:20260219T180000
DTSTAMP:20260423T112926
CREATED:20260127T161923Z
LAST-MODIFIED:20260127T161923Z
UID:10001122-1771524000-1771524000@cwa6222.com
SUMMARY:SWITCHING DEPT MTG/CONF CALL
DESCRIPTION:
URL:https://cwa6222.com/event/switching-dept-mtg-conf-call-4/
END:VEVENT
BEGIN:VEVENT
DTSTART;TZID=America/Chicago:20260219T181500
DTEND;TZID=America/Chicago:20260219T181500
DTSTAMP:20260423T112926
CREATED:20260127T162029Z
LAST-MODIFIED:20260127T162029Z
UID:10001123-1771524900-1771524900@cwa6222.com
SUMMARY:HEALTH & SAFETY COMMITTEE MTG
DESCRIPTION:
URL:https://cwa6222.com/event/health-safety-committee-mtg-7/
END:VEVENT
BEGIN:VEVENT
DTSTART;TZID=America/Chicago:20260219T183000
DTEND;TZID=America/Chicago:20260219T183000
DTSTAMP:20260423T112926
CREATED:20260127T162105Z
LAST-MODIFIED:20260127T162105Z
UID:10001124-1771525800-1771525800@cwa6222.com
SUMMARY:UVERSE DEPT MTG
DESCRIPTION:
URL:https://cwa6222.com/event/uverse-dept-mtg-5/
END:VEVENT
BEGIN:VEVENT
DTSTART;TZID=America/Chicago:20260219T183000
DTEND;TZID=America/Chicago:20260219T183000
DTSTAMP:20260423T112926
CREATED:20260127T162141Z
LAST-MODIFIED:20260127T162141Z
UID:10001125-1771525800-1771525800@cwa6222.com
SUMMARY:EDUCATION COMMITTEE MTG
DESCRIPTION:
URL:https://cwa6222.com/event/education-committee-mtg-7/
END:VEVENT
BEGIN:VEVENT
DTSTART;TZID=America/Chicago:20260219T190000
DTEND;TZID=America/Chicago:20260219T190000
DTSTAMP:20260423T112926
CREATED:20260127T162219Z
LAST-MODIFIED:20260127T162219Z
UID:10001126-1771527600-1771527600@cwa6222.com
SUMMARY:MOBILIZATION & ORGANIZING COMMITTEE MTG
DESCRIPTION:
URL:https://cwa6222.com/event/mobilization-organizing-committee-mtg-6/
END:VEVENT
BEGIN:VEVENT
DTSTART;TZID=America/Chicago:20260219T193000
DTEND;TZID=America/Chicago:20260219T193000
DTSTAMP:20260423T112926
CREATED:20260127T162303Z
LAST-MODIFIED:20260127T162303Z
UID:10001127-1771529400-1771529400@cwa6222.com
SUMMARY:MOBILITY RETAIL\, WFH\, IHX\, & TECH DEPT MTG
DESCRIPTION:
URL:https://cwa6222.com/event/mobility-retail-wfh-ihx-tech-dept-mtg-2/
END:VEVENT
BEGIN:VEVENT
DTSTART;TZID=America/Chicago:20260219T193000
DTEND;TZID=America/Chicago:20260219T193000
DTSTAMP:20260423T112926
CREATED:20260127T162423Z
LAST-MODIFIED:20260127T162423Z
UID:10001128-1771529400-1771529400@cwa6222.com
SUMMARY:INSTALLATION & REPAIR DEPT MTG
DESCRIPTION:
URL:https://cwa6222.com/event/installation-repair-dept-mtg-2/
END:VEVENT
END:VCALENDAR