BEGIN:VCALENDAR
VERSION:2.0
PRODID:-//CWA Local 6222 - ECPv6.15.20//NONSGML v1.0//EN
CALSCALE:GREGORIAN
METHOD:PUBLISH
X-ORIGINAL-URL:https://cwa6222.com
X-WR-CALDESC:Events for CWA Local 6222
REFRESH-INTERVAL;VALUE=DURATION:PT1H
X-Robots-Tag:noindex
X-PUBLISHED-TTL:PT1H
BEGIN:VTIMEZONE
TZID:America/Chicago
BEGIN:DAYLIGHT
TZOFFSETFROM:-0600
TZOFFSETTO:-0500
TZNAME:CDT
DTSTART:20240310T080000
END:DAYLIGHT
BEGIN:STANDARD
TZOFFSETFROM:-0500
TZOFFSETTO:-0600
TZNAME:CST
DTSTART:20241103T070000
END:STANDARD
BEGIN:DAYLIGHT
TZOFFSETFROM:-0600
TZOFFSETTO:-0500
TZNAME:CDT
DTSTART:20250309T080000
END:DAYLIGHT
BEGIN:STANDARD
TZOFFSETFROM:-0500
TZOFFSETTO:-0600
TZNAME:CST
DTSTART:20251102T070000
END:STANDARD
BEGIN:DAYLIGHT
TZOFFSETFROM:-0600
TZOFFSETTO:-0500
TZNAME:CDT
DTSTART:20260308T080000
END:DAYLIGHT
BEGIN:STANDARD
TZOFFSETFROM:-0500
TZOFFSETTO:-0600
TZNAME:CST
DTSTART:20261101T070000
END:STANDARD
END:VTIMEZONE
BEGIN:VEVENT
DTSTART;TZID=America/Chicago:20250805T180000
DTEND;TZID=America/Chicago:20250805T180000
DTSTAMP:20260423T124641
CREATED:20250725T163945Z
LAST-MODIFIED:20250725T163945Z
UID:10000982-1754416800-1754416800@cwa6222.com
SUMMARY:Legislative Committee Meeting
DESCRIPTION:
URL:https://cwa6222.com/event/legislative-committee-meeting-2/
END:VEVENT
BEGIN:VEVENT
DTSTART;TZID=America/Chicago:20250807T183000
DTEND;TZID=America/Chicago:20250807T183000
DTSTAMP:20260423T124641
CREATED:20250725T164208Z
LAST-MODIFIED:20250725T164208Z
UID:10000983-1754591400-1754591400@cwa6222.com
SUMMARY:Equity Committee Meeting
DESCRIPTION:
URL:https://cwa6222.com/event/equity-committee-meeting-3/
END:VEVENT
BEGIN:VEVENT
DTSTART;TZID=America/Chicago:20250807T193000
DTEND;TZID=America/Chicago:20250807T193000
DTSTAMP:20260423T124641
CREATED:20250725T165003Z
LAST-MODIFIED:20250725T165003Z
UID:10000984-1754595000-1754595000@cwa6222.com
SUMMARY:General Membership Meeting
DESCRIPTION:
URL:https://cwa6222.com/event/general-membership-meeting-8/
END:VEVENT
END:VCALENDAR