BEGIN:VCALENDAR
VERSION:2.0
PRODID:-//CWA Local 6222 - ECPv6.15.20//NONSGML v1.0//EN
CALSCALE:GREGORIAN
METHOD:PUBLISH
X-WR-CALNAME:CWA Local 6222
X-ORIGINAL-URL:https://cwa6222.com
X-WR-CALDESC:Events for CWA Local 6222
REFRESH-INTERVAL;VALUE=DURATION:PT1H
X-Robots-Tag:noindex
X-PUBLISHED-TTL:PT1H
BEGIN:VTIMEZONE
TZID:America/Chicago
BEGIN:DAYLIGHT
TZOFFSETFROM:-0600
TZOFFSETTO:-0500
TZNAME:CDT
DTSTART:20240310T080000
END:DAYLIGHT
BEGIN:STANDARD
TZOFFSETFROM:-0500
TZOFFSETTO:-0600
TZNAME:CST
DTSTART:20241103T070000
END:STANDARD
BEGIN:DAYLIGHT
TZOFFSETFROM:-0600
TZOFFSETTO:-0500
TZNAME:CDT
DTSTART:20250309T080000
END:DAYLIGHT
BEGIN:STANDARD
TZOFFSETFROM:-0500
TZOFFSETTO:-0600
TZNAME:CST
DTSTART:20251102T070000
END:STANDARD
BEGIN:DAYLIGHT
TZOFFSETFROM:-0600
TZOFFSETTO:-0500
TZNAME:CDT
DTSTART:20260308T080000
END:DAYLIGHT
BEGIN:STANDARD
TZOFFSETFROM:-0500
TZOFFSETTO:-0600
TZNAME:CST
DTSTART:20261101T070000
END:STANDARD
END:VTIMEZONE
BEGIN:VEVENT
DTSTART;TZID=America/Chicago:20250821T173000
DTEND;TZID=America/Chicago:20250821T173000
DTSTAMP:20260419T224221
CREATED:20250725T173156Z
LAST-MODIFIED:20250725T173156Z
UID:10000997-1755797400-1755797400@cwa6222.com
SUMMARY:System Techs Dept Mtg/Conf Call
DESCRIPTION:
URL:https://cwa6222.com/event/system-techs-dept-mtg-conf-call/
END:VEVENT
BEGIN:VEVENT
DTSTART;TZID=America/Chicago:20250821T180000
DTEND;TZID=America/Chicago:20250821T180000
DTSTAMP:20260419T224221
CREATED:20250725T173101Z
LAST-MODIFIED:20250725T173101Z
UID:10000996-1755799200-1755799200@cwa6222.com
SUMMARY:Switching Dept Mtg/Conf Call
DESCRIPTION:
URL:https://cwa6222.com/event/switching-dept-mtg-conf-call/
END:VEVENT
BEGIN:VEVENT
DTSTART;TZID=America/Chicago:20250821T181500
DTEND;TZID=America/Chicago:20250821T181500
DTSTAMP:20260419T224221
CREATED:20250725T172936Z
LAST-MODIFIED:20250725T172936Z
UID:10000994-1755800100-1755800100@cwa6222.com
SUMMARY:Health & Safety Committee Mtg
DESCRIPTION:
URL:https://cwa6222.com/event/health-safety-committee-mtg/
END:VEVENT
BEGIN:VEVENT
DTSTART;TZID=America/Chicago:20250821T183000
DTEND;TZID=America/Chicago:20250821T183000
DTSTAMP:20260419T224221
CREATED:20250725T163447Z
LAST-MODIFIED:20250725T163447Z
UID:10000979-1755801000-1755801000@cwa6222.com
SUMMARY:Uverse Dept Mtg/Conf Call
DESCRIPTION:
URL:https://cwa6222.com/event/uverse-dept-mtg-conf-call-7/
END:VEVENT
BEGIN:VEVENT
DTSTART;TZID=America/Chicago:20250821T183000
DTEND;TZID=America/Chicago:20250821T183000
DTSTAMP:20260419T224221
CREATED:20250725T163515Z
LAST-MODIFIED:20250725T172757Z
UID:10000980-1755801000-1755801000@cwa6222.com
SUMMARY:Education Committee Mtg
DESCRIPTION:
URL:https://cwa6222.com/event/education-committee-mtg-4/
END:VEVENT
BEGIN:VEVENT
DTSTART;TZID=America/Chicago:20250821T190000
DTEND;TZID=America/Chicago:20250821T190000
DTSTAMP:20260419T224221
CREATED:20250725T163402Z
LAST-MODIFIED:20250725T163402Z
UID:10000978-1755802800-1755802800@cwa6222.com
SUMMARY:Mobilization & Organizing Committee Mtg
DESCRIPTION:
URL:https://cwa6222.com/event/mobilization-organizing-committee-mtg-8/
END:VEVENT
BEGIN:VEVENT
DTSTART;TZID=America/Chicago:20250821T193000
DTEND;TZID=America/Chicago:20250821T193000
DTSTAMP:20260419T224221
CREATED:20250725T163254Z
LAST-MODIFIED:20250725T172421Z
UID:10000976-1755804600-1755804600@cwa6222.com
SUMMARY:I&R Dept Mtg/Conf Call
DESCRIPTION:
URL:https://cwa6222.com/event/ir-dept-mtg-conf-call-3/
END:VEVENT
BEGIN:VEVENT
DTSTART;TZID=America/Chicago:20250821T193000
DTEND;TZID=America/Chicago:20250821T193000
DTSTAMP:20260419T224221
CREATED:20250725T163334Z
LAST-MODIFIED:20250725T163334Z
UID:10000977-1755804600-1755804600@cwa6222.com
SUMMARY:Mobility Retail\, WFH & Techs Dept Mtg/Conf Call
DESCRIPTION:
URL:https://cwa6222.com/event/mobility-retail-wfh-techs-dept-mtg-conf-call-6/
END:VEVENT
BEGIN:VEVENT
DTSTART;TZID=America/Chicago:20250828T183000
DTEND;TZID=America/Chicago:20250828T183000
DTSTAMP:20260419T224221
CREATED:20250725T173926Z
LAST-MODIFIED:20250725T173926Z
UID:10001002-1756405800-1756405800@cwa6222.com
SUMMARY:Executive Board Meeting
DESCRIPTION:
URL:https://cwa6222.com/event/executive-board-meeting-2/
END:VEVENT
BEGIN:VEVENT
DTSTART;VALUE=DATE:20250901
DTEND;VALUE=DATE:20250902
DTSTAMP:20260419T224221
CREATED:20250826T195810Z
LAST-MODIFIED:20250826T195810Z
UID:10001003-1756684800-1756771199@cwa6222.com
SUMMARY:Labor Day Holiday
DESCRIPTION:
URL:https://cwa6222.com/event/labor-day-holiday/
END:VEVENT
BEGIN:VEVENT
DTSTART;TZID=America/Chicago:20250904T193000
DTEND;TZID=America/Chicago:20250904T193000
DTSTAMP:20260419T224221
CREATED:20250826T195916Z
LAST-MODIFIED:20250826T195916Z
UID:10001004-1757014200-1757014200@cwa6222.com
SUMMARY:General Membership Meeting
DESCRIPTION:
URL:https://cwa6222.com/event/general-membership-meeting/
END:VEVENT
BEGIN:VEVENT
DTSTART;TZID=America/Chicago:20250910T110000
DTEND;TZID=America/Chicago:20250910T130000
DTSTAMP:20260419T224221
CREATED:20250725T165727Z
LAST-MODIFIED:20250725T165727Z
UID:10000580-1757502000-1757509200@cwa6222.com
SUMMARY:RETIRED MEMBERS MEETING
DESCRIPTION:
URL:https://cwa6222.com/event/retired-members-meeting-5-3/2025-09-10/
END:VEVENT
BEGIN:VEVENT
DTSTART;TZID=America/Chicago:20250918T183000
DTEND;TZID=America/Chicago:20250918T183000
DTSTAMP:20260419T224221
CREATED:20250826T200145Z
LAST-MODIFIED:20250826T200220Z
UID:10001005-1758220200-1758220200@cwa6222.com
SUMMARY:Combined All Companies\, All Dept District & Chief & Combined Committees Meeting - Job Stewards Welcome
DESCRIPTION:
URL:https://cwa6222.com/event/combined-all-companies-all-dept-district-chief-combined-committees-meeting-job-stewards-welcome/
END:VEVENT
BEGIN:VEVENT
DTSTART;TZID=America/Chicago:20250925T183000
DTEND;TZID=America/Chicago:20250925T183000
DTSTAMP:20260419T224221
CREATED:20250826T200510Z
LAST-MODIFIED:20250826T200510Z
UID:10001006-1758825000-1758825000@cwa6222.com
SUMMARY:Executive Board Meeting
DESCRIPTION:
URL:https://cwa6222.com/event/executive-board-meeting-3/
END:VEVENT
BEGIN:VEVENT
DTSTART;TZID=America/Chicago:20250926T184500
DTEND;TZID=America/Chicago:20250926T184500
DTSTAMP:20260419T224221
CREATED:20250926T203721Z
LAST-MODIFIED:20250926T203721Z
UID:10001025-1758912300-1758912300@cwa6222.com
SUMMARY:Uverse North Chief Stwd Nominations (Airline\, I-45)
DESCRIPTION:
URL:https://cwa6222.com/event/uverse-north-chief-stwd-nominations-airline-i-45/
END:VEVENT
BEGIN:VEVENT
DTSTART;TZID=America/Chicago:20251002T180000
DTEND;TZID=America/Chicago:20251002T180000
DTSTAMP:20260419T224221
CREATED:20250926T151601Z
LAST-MODIFIED:20250926T151601Z
UID:10001007-1759428000-1759428000@cwa6222.com
SUMMARY:ELECTION COMMITTEE MTG
DESCRIPTION:
URL:https://cwa6222.com/event/election-committee-mtg/
END:VEVENT
BEGIN:VEVENT
DTSTART;TZID=America/Chicago:20251002T183000
DTEND;TZID=America/Chicago:20251002T183000
DTSTAMP:20260419T224221
CREATED:20250926T151654Z
LAST-MODIFIED:20250926T151654Z
UID:10001008-1759429800-1759429800@cwa6222.com
SUMMARY:EQUITY COMMITTEE MTG
DESCRIPTION:
URL:https://cwa6222.com/event/equity-committee-mtg/
END:VEVENT
BEGIN:VEVENT
DTSTART;TZID=America/Chicago:20251002T193000
DTEND;TZID=America/Chicago:20251002T193000
DTSTAMP:20260419T224221
CREATED:20250926T151751Z
LAST-MODIFIED:20250926T151751Z
UID:10001009-1759433400-1759433400@cwa6222.com
SUMMARY:MEMBERSHIP MEETING
DESCRIPTION:
URL:https://cwa6222.com/event/membership-meeting/
END:VEVENT
BEGIN:VEVENT
DTSTART;TZID=America/Chicago:20251007T180000
DTEND;TZID=America/Chicago:20251007T180000
DTSTAMP:20260419T224221
CREATED:20250926T152023Z
LAST-MODIFIED:20250926T152023Z
UID:10001010-1759860000-1759860000@cwa6222.com
SUMMARY:LEGISLATIVE COMMITTEE MTG
DESCRIPTION:
URL:https://cwa6222.com/event/legislative-committee-mtg/
END:VEVENT
BEGIN:VEVENT
DTSTART;TZID=America/Chicago:20251008T110000
DTEND;TZID=America/Chicago:20251008T130000
DTSTAMP:20260419T224221
CREATED:20250725T165727Z
LAST-MODIFIED:20250725T165727Z
UID:10000581-1759921200-1759928400@cwa6222.com
SUMMARY:RETIRED MEMBERS MEETING
DESCRIPTION:
URL:https://cwa6222.com/event/retired-members-meeting-5-3/2025-10-08/
END:VEVENT
BEGIN:VEVENT
DTSTART;TZID=America/Chicago:20251009T174500
DTEND;TZID=America/Chicago:20251009T174500
DTSTAMP:20260419T224221
CREATED:20250926T154123Z
LAST-MODIFIED:20250926T202043Z
UID:10001012-1760031900-1760031900@cwa6222.com
SUMMARY:Mobility Inside Chief Stwd Nominations
DESCRIPTION:
URL:https://cwa6222.com/event/mobility-inside-chief-stwd/
END:VEVENT
BEGIN:VEVENT
DTSTART;TZID=America/Chicago:20251009T180000
DTEND;TZID=America/Chicago:20251009T184500
DTSTAMP:20260419T224221
CREATED:20250926T154610Z
LAST-MODIFIED:20250926T154610Z
UID:10001013-1760032800-1760035500@cwa6222.com
SUMMARY:Directv WFH Chief Nominations
DESCRIPTION:
URL:https://cwa6222.com/event/directv-wfh-chief-nominations/
END:VEVENT
BEGIN:VEVENT
DTSTART;TZID=America/Chicago:20251009T184500
DTEND;TZID=America/Chicago:20251009T184500
DTSTAMP:20260419T224221
CREATED:20250926T202527Z
LAST-MODIFIED:20250926T202527Z
UID:10001016-1760035500-1760035500@cwa6222.com
SUMMARY:Communication Consultant Chief Stwd Nominations
DESCRIPTION:
URL:https://cwa6222.com/event/communication-consultant-chief-stwd-nominations/
END:VEVENT
BEGIN:VEVENT
DTSTART;TZID=America/Chicago:20251009T190000
DTEND;TZID=America/Chicago:20251009T190000
DTSTAMP:20260419T224221
CREATED:20250926T202228Z
LAST-MODIFIED:20250926T202349Z
UID:10001015-1760036400-1760036400@cwa6222.com
SUMMARY:Service Rep Chief Steward Nominations
DESCRIPTION:
URL:https://cwa6222.com/event/service-rep-chief-steward-nominations/
END:VEVENT
BEGIN:VEVENT
DTSTART;TZID=America/Chicago:20251009T190000
DTEND;TZID=America/Chicago:20251009T190000
DTSTAMP:20260419T224221
CREATED:20250926T211143Z
LAST-MODIFIED:20250926T211143Z
UID:10001045-1760036400-1760036400@cwa6222.com
SUMMARY:Mobility Chief Steward 1 Nominations (Retail)
DESCRIPTION:
URL:https://cwa6222.com/event/mobility-chief-steward-1-nominations-retail/
END:VEVENT
BEGIN:VEVENT
DTSTART;TZID=America/Chicago:20251009T191500
DTEND;TZID=America/Chicago:20251009T191500
DTSTAMP:20260419T224221
CREATED:20250926T153735Z
LAST-MODIFIED:20250926T202008Z
UID:10001011-1760037300-1760037300@cwa6222.com
SUMMARY:NCT Chief Steward Nominations
DESCRIPTION:
URL:https://cwa6222.com/event/nct-chief-stwd-nominations/
END:VEVENT
BEGIN:VEVENT
DTSTART;TZID=America/Chicago:20251009T191500
DTEND;TZID=America/Chicago:20251009T191500
DTSTAMP:20260419T224221
CREATED:20250926T211239Z
LAST-MODIFIED:20250926T211239Z
UID:10001046-1760037300-1760037300@cwa6222.com
SUMMARY:Mobility Chief Stwd 2 Nominations (Retail)
DESCRIPTION:
URL:https://cwa6222.com/event/mobility-chief-stwd-2-nominations-retail/
END:VEVENT
BEGIN:VEVENT
DTSTART;TZID=America/Chicago:20251009T193000
DTEND;TZID=America/Chicago:20251009T193000
DTSTAMP:20260419T224221
CREATED:20250926T202150Z
LAST-MODIFIED:20250926T202150Z
UID:10001014-1760038200-1760038200@cwa6222.com
SUMMARY:CSR Chief Steward Nominations
DESCRIPTION:
URL:https://cwa6222.com/event/csr-chief-steward-nominations/
END:VEVENT
BEGIN:VEVENT
DTSTART;TZID=America/Chicago:20251009T193000
DTEND;TZID=America/Chicago:20251009T193000
DTSTAMP:20260419T224221
CREATED:20250926T211327Z
LAST-MODIFIED:20250926T211327Z
UID:10001047-1760038200-1760038200@cwa6222.com
SUMMARY:Mobility Chief Stwd 3 Nominations (Retail)
DESCRIPTION:
URL:https://cwa6222.com/event/mobility-chief-stwd-3-nominations-retail/
END:VEVENT
BEGIN:VEVENT
DTSTART;TZID=America/Chicago:20251009T194500
DTEND;TZID=America/Chicago:20251009T194500
DTSTAMP:20260419T224221
CREATED:20250926T211425Z
LAST-MODIFIED:20250926T211425Z
UID:10001048-1760039100-1760039100@cwa6222.com
SUMMARY:Mobility Chief Stwd 4 Nominations (Retail)
DESCRIPTION:
URL:https://cwa6222.com/event/mobility-chief-stwd-4-nominations-retail/
END:VEVENT
END:VCALENDAR