BEGIN:VCALENDAR
VERSION:2.0
PRODID:-//CWA Local 6222 - ECPv6.15.20//NONSGML v1.0//EN
CALSCALE:GREGORIAN
METHOD:PUBLISH
X-ORIGINAL-URL:https://cwa6222.com
X-WR-CALDESC:Events for CWA Local 6222
REFRESH-INTERVAL;VALUE=DURATION:PT1H
X-Robots-Tag:noindex
X-PUBLISHED-TTL:PT1H
BEGIN:VTIMEZONE
TZID:America/Chicago
BEGIN:DAYLIGHT
TZOFFSETFROM:-0600
TZOFFSETTO:-0500
TZNAME:CDT
DTSTART:20260308T080000
END:DAYLIGHT
BEGIN:STANDARD
TZOFFSETFROM:-0500
TZOFFSETTO:-0600
TZNAME:CST
DTSTART:20261101T070000
END:STANDARD
BEGIN:DAYLIGHT
TZOFFSETFROM:-0600
TZOFFSETTO:-0500
TZNAME:CDT
DTSTART:20270314T080000
END:DAYLIGHT
BEGIN:STANDARD
TZOFFSETFROM:-0500
TZOFFSETTO:-0600
TZNAME:CST
DTSTART:20271107T070000
END:STANDARD
BEGIN:DAYLIGHT
TZOFFSETFROM:-0600
TZOFFSETTO:-0500
TZNAME:CDT
DTSTART:20280312T080000
END:DAYLIGHT
BEGIN:STANDARD
TZOFFSETFROM:-0500
TZOFFSETTO:-0600
TZNAME:CST
DTSTART:20281105T070000
END:STANDARD
BEGIN:DAYLIGHT
TZOFFSETFROM:-0600
TZOFFSETTO:-0500
TZNAME:CDT
DTSTART:20290311T080000
END:DAYLIGHT
BEGIN:STANDARD
TZOFFSETFROM:-0500
TZOFFSETTO:-0600
TZNAME:CST
DTSTART:20291104T070000
END:STANDARD
BEGIN:DAYLIGHT
TZOFFSETFROM:-0600
TZOFFSETTO:-0500
TZNAME:CDT
DTSTART:20300310T080000
END:DAYLIGHT
BEGIN:STANDARD
TZOFFSETFROM:-0500
TZOFFSETTO:-0600
TZNAME:CST
DTSTART:20301103T070000
END:STANDARD
END:VTIMEZONE
BEGIN:VEVENT
DTSTART;TZID=America/Chicago:20270714T110000
DTEND;TZID=America/Chicago:20270714T130000
DTSTAMP:20260419T175440
CREATED:20250725T165727Z
LAST-MODIFIED:20250725T165727Z
UID:10000602-1815562800-1815570000@cwa6222.com
SUMMARY:RETIRED MEMBERS MEETING
DESCRIPTION:
URL:https://cwa6222.com/event/retired-members-meeting-5-3/2027-07-14/
END:VEVENT
BEGIN:VEVENT
DTSTART;TZID=America/Chicago:20270811T110000
DTEND;TZID=America/Chicago:20270811T130000
DTSTAMP:20260419T175440
CREATED:20250725T165727Z
LAST-MODIFIED:20250725T165727Z
UID:10000603-1817982000-1817989200@cwa6222.com
SUMMARY:RETIRED MEMBERS MEETING
DESCRIPTION:
URL:https://cwa6222.com/event/retired-members-meeting-5-3/2027-08-11/
END:VEVENT
BEGIN:VEVENT
DTSTART;TZID=America/Chicago:20270908T110000
DTEND;TZID=America/Chicago:20270908T130000
DTSTAMP:20260419T175440
CREATED:20250725T165727Z
LAST-MODIFIED:20250725T165727Z
UID:10000604-1820401200-1820408400@cwa6222.com
SUMMARY:RETIRED MEMBERS MEETING
DESCRIPTION:
URL:https://cwa6222.com/event/retired-members-meeting-5-3/2027-09-08/
END:VEVENT
BEGIN:VEVENT
DTSTART;TZID=America/Chicago:20271013T110000
DTEND;TZID=America/Chicago:20271013T130000
DTSTAMP:20260419T175440
CREATED:20250725T165727Z
LAST-MODIFIED:20250725T165727Z
UID:10000605-1823425200-1823432400@cwa6222.com
SUMMARY:RETIRED MEMBERS MEETING
DESCRIPTION:
URL:https://cwa6222.com/event/retired-members-meeting-5-3/2027-10-13/
END:VEVENT
BEGIN:VEVENT
DTSTART;TZID=America/Chicago:20271110T110000
DTEND;TZID=America/Chicago:20271110T130000
DTSTAMP:20260419T175440
CREATED:20250725T165727Z
LAST-MODIFIED:20250725T165727Z
UID:10000606-1825844400-1825851600@cwa6222.com
SUMMARY:RETIRED MEMBERS MEETING
DESCRIPTION:
URL:https://cwa6222.com/event/retired-members-meeting-5-3/2027-11-10/
END:VEVENT
BEGIN:VEVENT
DTSTART;TZID=America/Chicago:20271208T110000
DTEND;TZID=America/Chicago:20271208T130000
DTSTAMP:20260419T175440
CREATED:20250725T165727Z
LAST-MODIFIED:20250725T165727Z
UID:10000607-1828263600-1828270800@cwa6222.com
SUMMARY:RETIRED MEMBERS MEETING
DESCRIPTION:
URL:https://cwa6222.com/event/retired-members-meeting-5-3/2027-12-08/
END:VEVENT
BEGIN:VEVENT
DTSTART;TZID=America/Chicago:20280112T110000
DTEND;TZID=America/Chicago:20280112T130000
DTSTAMP:20260419T175440
CREATED:20250725T165727Z
LAST-MODIFIED:20250725T165727Z
UID:10000608-1831287600-1831294800@cwa6222.com
SUMMARY:RETIRED MEMBERS MEETING
DESCRIPTION:
URL:https://cwa6222.com/event/retired-members-meeting-5-3/2028-01-12/
END:VEVENT
BEGIN:VEVENT
DTSTART;TZID=America/Chicago:20280209T110000
DTEND;TZID=America/Chicago:20280209T130000
DTSTAMP:20260419T175440
CREATED:20250725T165727Z
LAST-MODIFIED:20250725T165727Z
UID:10000609-1833706800-1833714000@cwa6222.com
SUMMARY:RETIRED MEMBERS MEETING
DESCRIPTION:
URL:https://cwa6222.com/event/retired-members-meeting-5-3/2028-02-09/
END:VEVENT
BEGIN:VEVENT
DTSTART;TZID=America/Chicago:20280308T110000
DTEND;TZID=America/Chicago:20280308T130000
DTSTAMP:20260419T175440
CREATED:20250725T165727Z
LAST-MODIFIED:20250725T165727Z
UID:10000610-1836126000-1836133200@cwa6222.com
SUMMARY:RETIRED MEMBERS MEETING
DESCRIPTION:
URL:https://cwa6222.com/event/retired-members-meeting-5-3/2028-03-08/
END:VEVENT
BEGIN:VEVENT
DTSTART;TZID=America/Chicago:20280412T110000
DTEND;TZID=America/Chicago:20280412T130000
DTSTAMP:20260419T175440
CREATED:20250725T165727Z
LAST-MODIFIED:20250725T165727Z
UID:10000611-1839150000-1839157200@cwa6222.com
SUMMARY:RETIRED MEMBERS MEETING
DESCRIPTION:
URL:https://cwa6222.com/event/retired-members-meeting-5-3/2028-04-12/
END:VEVENT
BEGIN:VEVENT
DTSTART;TZID=America/Chicago:20280510T110000
DTEND;TZID=America/Chicago:20280510T130000
DTSTAMP:20260419T175440
CREATED:20250725T165727Z
LAST-MODIFIED:20250725T165727Z
UID:10000612-1841569200-1841576400@cwa6222.com
SUMMARY:RETIRED MEMBERS MEETING
DESCRIPTION:
URL:https://cwa6222.com/event/retired-members-meeting-5-3/2028-05-10/
END:VEVENT
BEGIN:VEVENT
DTSTART;TZID=America/Chicago:20280614T110000
DTEND;TZID=America/Chicago:20280614T130000
DTSTAMP:20260419T175440
CREATED:20250725T165727Z
LAST-MODIFIED:20250725T165727Z
UID:10000613-1844593200-1844600400@cwa6222.com
SUMMARY:RETIRED MEMBERS MEETING
DESCRIPTION:
URL:https://cwa6222.com/event/retired-members-meeting-5-3/2028-06-14/
END:VEVENT
BEGIN:VEVENT
DTSTART;TZID=America/Chicago:20280712T110000
DTEND;TZID=America/Chicago:20280712T130000
DTSTAMP:20260419T175440
CREATED:20250725T165727Z
LAST-MODIFIED:20250725T165727Z
UID:10000614-1847012400-1847019600@cwa6222.com
SUMMARY:RETIRED MEMBERS MEETING
DESCRIPTION:
URL:https://cwa6222.com/event/retired-members-meeting-5-3/2028-07-12/
END:VEVENT
BEGIN:VEVENT
DTSTART;TZID=America/Chicago:20280809T110000
DTEND;TZID=America/Chicago:20280809T130000
DTSTAMP:20260419T175440
CREATED:20250725T165727Z
LAST-MODIFIED:20250725T165727Z
UID:10000615-1849431600-1849438800@cwa6222.com
SUMMARY:RETIRED MEMBERS MEETING
DESCRIPTION:
URL:https://cwa6222.com/event/retired-members-meeting-5-3/2028-08-09/
END:VEVENT
BEGIN:VEVENT
DTSTART;TZID=America/Chicago:20280913T110000
DTEND;TZID=America/Chicago:20280913T130000
DTSTAMP:20260419T175440
CREATED:20250725T165727Z
LAST-MODIFIED:20250725T165727Z
UID:10000616-1852455600-1852462800@cwa6222.com
SUMMARY:RETIRED MEMBERS MEETING
DESCRIPTION:
URL:https://cwa6222.com/event/retired-members-meeting-5-3/2028-09-13/
END:VEVENT
BEGIN:VEVENT
DTSTART;TZID=America/Chicago:20281011T110000
DTEND;TZID=America/Chicago:20281011T130000
DTSTAMP:20260419T175440
CREATED:20250725T165727Z
LAST-MODIFIED:20250725T165727Z
UID:10000617-1854874800-1854882000@cwa6222.com
SUMMARY:RETIRED MEMBERS MEETING
DESCRIPTION:
URL:https://cwa6222.com/event/retired-members-meeting-5-3/2028-10-11/
END:VEVENT
BEGIN:VEVENT
DTSTART;TZID=America/Chicago:20281108T110000
DTEND;TZID=America/Chicago:20281108T130000
DTSTAMP:20260419T175440
CREATED:20250725T165727Z
LAST-MODIFIED:20250725T165727Z
UID:10000618-1857294000-1857301200@cwa6222.com
SUMMARY:RETIRED MEMBERS MEETING
DESCRIPTION:
URL:https://cwa6222.com/event/retired-members-meeting-5-3/2028-11-08/
END:VEVENT
BEGIN:VEVENT
DTSTART;TZID=America/Chicago:20281213T110000
DTEND;TZID=America/Chicago:20281213T130000
DTSTAMP:20260419T175440
CREATED:20250725T165727Z
LAST-MODIFIED:20250725T165727Z
UID:10000619-1860318000-1860325200@cwa6222.com
SUMMARY:RETIRED MEMBERS MEETING
DESCRIPTION:
URL:https://cwa6222.com/event/retired-members-meeting-5-3/2028-12-13/
END:VEVENT
BEGIN:VEVENT
DTSTART;TZID=America/Chicago:20290110T110000
DTEND;TZID=America/Chicago:20290110T130000
DTSTAMP:20260419T175440
CREATED:20250725T165727Z
LAST-MODIFIED:20250725T165727Z
UID:10000620-1862737200-1862744400@cwa6222.com
SUMMARY:RETIRED MEMBERS MEETING
DESCRIPTION:
URL:https://cwa6222.com/event/retired-members-meeting-5-3/2029-01-10/
END:VEVENT
BEGIN:VEVENT
DTSTART;TZID=America/Chicago:20290214T110000
DTEND;TZID=America/Chicago:20290214T130000
DTSTAMP:20260419T175440
CREATED:20250725T165727Z
LAST-MODIFIED:20250725T165727Z
UID:10000834-1865761200-1865768400@cwa6222.com
SUMMARY:RETIRED MEMBERS MEETING
DESCRIPTION:
URL:https://cwa6222.com/event/retired-members-meeting-5-3/2029-02-14/
END:VEVENT
BEGIN:VEVENT
DTSTART;TZID=America/Chicago:20290314T110000
DTEND;TZID=America/Chicago:20290314T130000
DTSTAMP:20260419T175440
CREATED:20250725T165727Z
LAST-MODIFIED:20250725T165727Z
UID:10000835-1868180400-1868187600@cwa6222.com
SUMMARY:RETIRED MEMBERS MEETING
DESCRIPTION:
URL:https://cwa6222.com/event/retired-members-meeting-5-3/2029-03-14/
END:VEVENT
BEGIN:VEVENT
DTSTART;TZID=America/Chicago:20290411T110000
DTEND;TZID=America/Chicago:20290411T130000
DTSTAMP:20260419T175440
CREATED:20250725T165727Z
LAST-MODIFIED:20250725T165727Z
UID:10000836-1870599600-1870606800@cwa6222.com
SUMMARY:RETIRED MEMBERS MEETING
DESCRIPTION:
URL:https://cwa6222.com/event/retired-members-meeting-5-3/2029-04-11/
END:VEVENT
BEGIN:VEVENT
DTSTART;TZID=America/Chicago:20290509T110000
DTEND;TZID=America/Chicago:20290509T130000
DTSTAMP:20260419T175440
CREATED:20250725T165727Z
LAST-MODIFIED:20250725T165727Z
UID:10000837-1873018800-1873026000@cwa6222.com
SUMMARY:RETIRED MEMBERS MEETING
DESCRIPTION:
URL:https://cwa6222.com/event/retired-members-meeting-5-3/2029-05-09/
END:VEVENT
BEGIN:VEVENT
DTSTART;TZID=America/Chicago:20290613T110000
DTEND;TZID=America/Chicago:20290613T130000
DTSTAMP:20260419T175440
CREATED:20250725T165727Z
LAST-MODIFIED:20250725T165727Z
UID:10000838-1876042800-1876050000@cwa6222.com
SUMMARY:RETIRED MEMBERS MEETING
DESCRIPTION:
URL:https://cwa6222.com/event/retired-members-meeting-5-3/2029-06-13/
END:VEVENT
BEGIN:VEVENT
DTSTART;TZID=America/Chicago:20290711T110000
DTEND;TZID=America/Chicago:20290711T130000
DTSTAMP:20260419T175440
CREATED:20250725T165727Z
LAST-MODIFIED:20250725T165727Z
UID:10000839-1878462000-1878469200@cwa6222.com
SUMMARY:RETIRED MEMBERS MEETING
DESCRIPTION:
URL:https://cwa6222.com/event/retired-members-meeting-5-3/2029-07-11/
END:VEVENT
BEGIN:VEVENT
DTSTART;TZID=America/Chicago:20290808T110000
DTEND;TZID=America/Chicago:20290808T130000
DTSTAMP:20260419T175440
CREATED:20250725T165727Z
LAST-MODIFIED:20250725T165727Z
UID:10000840-1880881200-1880888400@cwa6222.com
SUMMARY:RETIRED MEMBERS MEETING
DESCRIPTION:
URL:https://cwa6222.com/event/retired-members-meeting-5-3/2029-08-08/
END:VEVENT
BEGIN:VEVENT
DTSTART;TZID=America/Chicago:20290912T110000
DTEND;TZID=America/Chicago:20290912T130000
DTSTAMP:20260419T175440
CREATED:20250725T165727Z
LAST-MODIFIED:20250725T165727Z
UID:10000841-1883905200-1883912400@cwa6222.com
SUMMARY:RETIRED MEMBERS MEETING
DESCRIPTION:
URL:https://cwa6222.com/event/retired-members-meeting-5-3/2029-09-12/
END:VEVENT
BEGIN:VEVENT
DTSTART;TZID=America/Chicago:20291010T110000
DTEND;TZID=America/Chicago:20291010T130000
DTSTAMP:20260419T175440
CREATED:20250725T165727Z
LAST-MODIFIED:20250725T165727Z
UID:10000842-1886324400-1886331600@cwa6222.com
SUMMARY:RETIRED MEMBERS MEETING
DESCRIPTION:
URL:https://cwa6222.com/event/retired-members-meeting-5-3/2029-10-10/
END:VEVENT
BEGIN:VEVENT
DTSTART;TZID=America/Chicago:20291114T110000
DTEND;TZID=America/Chicago:20291114T130000
DTSTAMP:20260419T175440
CREATED:20250725T165727Z
LAST-MODIFIED:20250725T165727Z
UID:10000985-1889348400-1889355600@cwa6222.com
SUMMARY:RETIRED MEMBERS MEETING
DESCRIPTION:
URL:https://cwa6222.com/event/retired-members-meeting-5-3/2029-11-14/
END:VEVENT
BEGIN:VEVENT
DTSTART;TZID=America/Chicago:20291212T110000
DTEND;TZID=America/Chicago:20291212T130000
DTSTAMP:20260419T175440
CREATED:20250725T165727Z
LAST-MODIFIED:20250725T165727Z
UID:10000986-1891767600-1891774800@cwa6222.com
SUMMARY:RETIRED MEMBERS MEETING
DESCRIPTION:
URL:https://cwa6222.com/event/retired-members-meeting-5-3/2029-12-12/
END:VEVENT
END:VCALENDAR