BEGIN:VCALENDAR
VERSION:2.0
PRODID:-//CWA Local 6222 - ECPv6.15.20//NONSGML v1.0//EN
CALSCALE:GREGORIAN
METHOD:PUBLISH
X-WR-CALNAME:CWA Local 6222
X-ORIGINAL-URL:https://cwa6222.com
X-WR-CALDESC:Events for CWA Local 6222
REFRESH-INTERVAL;VALUE=DURATION:PT1H
X-Robots-Tag:noindex
X-PUBLISHED-TTL:PT1H
BEGIN:VTIMEZONE
TZID:America/Chicago
BEGIN:DAYLIGHT
TZOFFSETFROM:-0600
TZOFFSETTO:-0500
TZNAME:CDT
DTSTART:20240310T080000
END:DAYLIGHT
BEGIN:STANDARD
TZOFFSETFROM:-0500
TZOFFSETTO:-0600
TZNAME:CST
DTSTART:20241103T070000
END:STANDARD
BEGIN:DAYLIGHT
TZOFFSETFROM:-0600
TZOFFSETTO:-0500
TZNAME:CDT
DTSTART:20250309T080000
END:DAYLIGHT
BEGIN:STANDARD
TZOFFSETFROM:-0500
TZOFFSETTO:-0600
TZNAME:CST
DTSTART:20251102T070000
END:STANDARD
BEGIN:DAYLIGHT
TZOFFSETFROM:-0600
TZOFFSETTO:-0500
TZNAME:CDT
DTSTART:20260308T080000
END:DAYLIGHT
BEGIN:STANDARD
TZOFFSETFROM:-0500
TZOFFSETTO:-0600
TZNAME:CST
DTSTART:20261101T070000
END:STANDARD
BEGIN:DAYLIGHT
TZOFFSETFROM:-0600
TZOFFSETTO:-0500
TZNAME:CDT
DTSTART:20270314T080000
END:DAYLIGHT
BEGIN:STANDARD
TZOFFSETFROM:-0500
TZOFFSETTO:-0600
TZNAME:CST
DTSTART:20271107T070000
END:STANDARD
END:VTIMEZONE
BEGIN:VEVENT
DTSTART;TZID=America/Chicago:20260205T183000
DTEND;TZID=America/Chicago:20260205T183000
DTSTAMP:20260423T113255
CREATED:20260123T195259Z
LAST-MODIFIED:20260123T195259Z
UID:10001112-1770316200-1770316200@cwa6222.com
SUMMARY:EQUITY COMMITTEE MTG
DESCRIPTION:
URL:https://cwa6222.com/event/equity-committee-mtg-6/
END:VEVENT
BEGIN:VEVENT
DTSTART;TZID=America/Chicago:20260203T180000
DTEND;TZID=America/Chicago:20260203T180000
DTSTAMP:20260423T113255
CREATED:20260123T195109Z
LAST-MODIFIED:20260123T195109Z
UID:10001111-1770141600-1770141600@cwa6222.com
SUMMARY:LEGISLATIVE COMMITTEE MTG
DESCRIPTION:
URL:https://cwa6222.com/event/legislative-committee-mtg-5/
END:VEVENT
BEGIN:VEVENT
DTSTART;TZID=America/Chicago:20260129T183000
DTEND;TZID=America/Chicago:20260129T183000
DTSTAMP:20260423T113255
CREATED:20251218T154012Z
LAST-MODIFIED:20251218T154012Z
UID:10001108-1769711400-1769711400@cwa6222.com
SUMMARY:EXECUTIVE BOARD MTG
DESCRIPTION:
URL:https://cwa6222.com/event/executive-board-mtg-3/
END:VEVENT
BEGIN:VEVENT
DTSTART;VALUE=DATE:20260119
DTEND;VALUE=DATE:20260120
DTSTAMP:20260423T113255
CREATED:20251218T153844Z
LAST-MODIFIED:20251218T153844Z
UID:10001107-1768780800-1768867199@cwa6222.com
SUMMARY:MLK JR DAY
DESCRIPTION:
URL:https://cwa6222.com/event/mlk-jr-day/
END:VEVENT
BEGIN:VEVENT
DTSTART;TZID=America/Chicago:20260115T193000
DTEND;TZID=America/Chicago:20260115T193000
DTSTAMP:20260423T113255
CREATED:20251218T153759Z
LAST-MODIFIED:20251218T153759Z
UID:10001106-1768505400-1768505400@cwa6222.com
SUMMARY:I&R DEPT MTG
DESCRIPTION:
URL:https://cwa6222.com/event/ir-dept-mtg/
END:VEVENT
BEGIN:VEVENT
DTSTART;TZID=America/Chicago:20260115T193000
DTEND;TZID=America/Chicago:20260115T193000
DTSTAMP:20260423T113255
CREATED:20251218T153647Z
LAST-MODIFIED:20251218T153647Z
UID:10001105-1768505400-1768505400@cwa6222.com
SUMMARY:MOBILITY RETAIL\, WFH\, IHX\, & TECH DEPT MTG
DESCRIPTION:
URL:https://cwa6222.com/event/mobility-retail-wfh-ihx-tech-dept-mtg/
END:VEVENT
BEGIN:VEVENT
DTSTART;TZID=America/Chicago:20260115T190000
DTEND;TZID=America/Chicago:20260115T190000
DTSTAMP:20260423T113255
CREATED:20251218T153539Z
LAST-MODIFIED:20251218T153539Z
UID:10001104-1768503600-1768503600@cwa6222.com
SUMMARY:MOBILIZATION & ORGANIZING COMMITTEE MTG
DESCRIPTION:
URL:https://cwa6222.com/event/mobilization-organizing-committee-mtg-3/
END:VEVENT
BEGIN:VEVENT
DTSTART;TZID=America/Chicago:20260115T183000
DTEND;TZID=America/Chicago:20260115T183000
DTSTAMP:20260423T113255
CREATED:20251218T153457Z
LAST-MODIFIED:20251218T153457Z
UID:10001103-1768501800-1768501800@cwa6222.com
SUMMARY:EDUCATION COMMITTEE MTG
DESCRIPTION:
URL:https://cwa6222.com/event/education-committee-mtg-6/
END:VEVENT
BEGIN:VEVENT
DTSTART;TZID=America/Chicago:20260115T183000
DTEND;TZID=America/Chicago:20260115T183000
DTSTAMP:20260423T113255
CREATED:20251218T153410Z
LAST-MODIFIED:20251218T153410Z
UID:10001102-1768501800-1768501800@cwa6222.com
SUMMARY:UVERSE DEPT MTG
DESCRIPTION:
URL:https://cwa6222.com/event/uverse-dept-mtg-4/
END:VEVENT
BEGIN:VEVENT
DTSTART;TZID=America/Chicago:20260115T181500
DTEND;TZID=America/Chicago:20260115T181500
DTSTAMP:20260423T113255
CREATED:20251218T153338Z
LAST-MODIFIED:20251218T153338Z
UID:10001101-1768500900-1768500900@cwa6222.com
SUMMARY:HEALTH & SAFETY COMMITTEE MTG
DESCRIPTION:
URL:https://cwa6222.com/event/health-safety-committee-mtg-5/
END:VEVENT
BEGIN:VEVENT
DTSTART;TZID=America/Chicago:20260115T180000
DTEND;TZID=America/Chicago:20260115T180000
DTSTAMP:20260423T113255
CREATED:20251218T153216Z
LAST-MODIFIED:20251218T153216Z
UID:10001100-1768500000-1768500000@cwa6222.com
SUMMARY:SWITCHING DEPT MTG/CONF CALL
DESCRIPTION:
URL:https://cwa6222.com/event/switching-dept-mtg-conf-call-2/
END:VEVENT
BEGIN:VEVENT
DTSTART;TZID=America/Chicago:20260115T173000
DTEND;TZID=America/Chicago:20260115T173000
DTSTAMP:20260423T113255
CREATED:20251218T153122Z
LAST-MODIFIED:20251218T153122Z
UID:10001099-1768498200-1768498200@cwa6222.com
SUMMARY:SYSTEM TECHS DEPT MTG/CONF CALL
DESCRIPTION:
URL:https://cwa6222.com/event/system-techs-dept-mtg-conf-call-2/
END:VEVENT
BEGIN:VEVENT
DTSTART;TZID=America/Chicago:20260115T170000
DTEND;TZID=America/Chicago:20260115T170000
DTSTAMP:20260423T113255
CREATED:20251218T153029Z
LAST-MODIFIED:20251218T153029Z
UID:10001098-1768496400-1768496400@cwa6222.com
SUMMARY:C&E DEPT MTG/CONF CALL
DESCRIPTION:
URL:https://cwa6222.com/event/ce-dept-mtg-conf-call/
END:VEVENT
BEGIN:VEVENT
DTSTART;TZID=America/Chicago:20260114T190000
DTEND;TZID=America/Chicago:20260114T190000
DTSTAMP:20260423T113255
CREATED:20251218T152501Z
LAST-MODIFIED:20251218T214247Z
UID:10001091-1768417200-1768417200@cwa6222.com
SUMMARY:NEXTGEN COMMITTEE MTG
DESCRIPTION:
URL:https://cwa6222.com/event/nextgen-committee-mtg-3/
END:VEVENT
BEGIN:VEVENT
DTSTART;TZID=America/Chicago:20260114T183000
DTEND;TZID=America/Chicago:20260114T183000
DTSTAMP:20260423T113255
CREATED:20251218T214342Z
LAST-MODIFIED:20251218T214342Z
UID:10001109-1768415400-1768415400@cwa6222.com
SUMMARY:Technology Committee Mtg
DESCRIPTION:
URL:https://cwa6222.com/event/technology-committee-mtg-2/
END:VEVENT
BEGIN:VEVENT
DTSTART;TZID=America/Chicago:20260114T110000
DTEND;TZID=America/Chicago:20260114T130000
DTSTAMP:20260423T113255
CREATED:20250725T165727Z
LAST-MODIFIED:20250725T165727Z
UID:10000584-1768388400-1768395600@cwa6222.com
SUMMARY:RETIRED MEMBERS MEETING
DESCRIPTION:
URL:https://cwa6222.com/event/retired-members-meeting-5-3/2026-01-14/
END:VEVENT
BEGIN:VEVENT
DTSTART;TZID=America/Chicago:20260113T183000
DTEND;TZID=America/Chicago:20260113T183000
DTSTAMP:20260423T113255
CREATED:20251218T152930Z
LAST-MODIFIED:20251218T152930Z
UID:10001097-1768329000-1768329000@cwa6222.com
SUMMARY:OUT OF TOWN CONF CALL
DESCRIPTION:
URL:https://cwa6222.com/event/out-of-town-conf-call-4/
END:VEVENT
BEGIN:VEVENT
DTSTART;TZID=America/Chicago:20260108T193000
DTEND;TZID=America/Chicago:20260108T193000
DTSTAMP:20260423T113255
CREATED:20251218T152834Z
LAST-MODIFIED:20251218T152834Z
UID:10001096-1767900600-1767900600@cwa6222.com
SUMMARY:GENERAL MEMBERSHIP MTG
DESCRIPTION:
URL:https://cwa6222.com/event/general-membership-mtg-3/
END:VEVENT
BEGIN:VEVENT
DTSTART;TZID=America/Chicago:20260108T183000
DTEND;TZID=America/Chicago:20260108T183000
DTSTAMP:20260423T113255
CREATED:20251218T152756Z
LAST-MODIFIED:20251218T152756Z
UID:10001095-1767897000-1767897000@cwa6222.com
SUMMARY:EQUITY COMMITTEE MTG
DESCRIPTION:
URL:https://cwa6222.com/event/equity-committee-mtg-5/
END:VEVENT
BEGIN:VEVENT
DTSTART;TZID=America/Chicago:20260107T183000
DTEND;TZID=America/Chicago:20260107T183000
DTSTAMP:20260423T113255
CREATED:20251218T152714Z
LAST-MODIFIED:20251218T152714Z
UID:10001094-1767810600-1767810600@cwa6222.com
SUMMARY:CENTERS DEPT MTG
DESCRIPTION:
URL:https://cwa6222.com/event/centers-dept-mtg-2/
END:VEVENT
BEGIN:VEVENT
DTSTART;TZID=America/Chicago:20260107T180000
DTEND;TZID=America/Chicago:20260107T180000
DTSTAMP:20260423T113256
CREATED:20251218T152633Z
LAST-MODIFIED:20251218T152633Z
UID:10001093-1767808800-1767808800@cwa6222.com
SUMMARY:CENTERS CHIEF STWDS MTG
DESCRIPTION:
URL:https://cwa6222.com/event/centers-chief-stwds-mtg-5/
END:VEVENT
BEGIN:VEVENT
DTSTART;TZID=America/Chicago:20260106T193000
DTEND;TZID=America/Chicago:20260106T193000
DTSTAMP:20260423T113256
CREATED:20251218T152543Z
LAST-MODIFIED:20251218T152543Z
UID:10001092-1767727800-1767727800@cwa6222.com
SUMMARY:COMMUNITY SVCS COMMITTEE MTG
DESCRIPTION:
URL:https://cwa6222.com/event/community-svcs-committee-mtg-5/
END:VEVENT
BEGIN:VEVENT
DTSTART;TZID=America/Chicago:20260106T190000
DTEND;TZID=America/Chicago:20260106T190000
DTSTAMP:20260423T113256
CREATED:20251218T152412Z
LAST-MODIFIED:20251218T152412Z
UID:10001090-1767726000-1767726000@cwa6222.com
SUMMARY:WOMEN'S COMMITTEE MTG
DESCRIPTION:
URL:https://cwa6222.com/event/womens-committee-mtg-2/
END:VEVENT
BEGIN:VEVENT
DTSTART;TZID=America/Chicago:20260106T180000
DTEND;TZID=America/Chicago:20260106T180000
DTSTAMP:20260423T113256
CREATED:20251218T152316Z
LAST-MODIFIED:20251218T152316Z
UID:10001089-1767722400-1767722400@cwa6222.com
SUMMARY:LEGISLATIVE COMMITTEE MTG
DESCRIPTION:
URL:https://cwa6222.com/event/legislative-committee-mtg-4/
END:VEVENT
BEGIN:VEVENT
DTSTART;VALUE=DATE:20260101
DTEND;VALUE=DATE:20260102
DTSTAMP:20260423T113256
CREATED:20251201T164912Z
LAST-MODIFIED:20251201T164912Z
UID:10001088-1767225600-1767311999@cwa6222.com
SUMMARY:HAPPY NEW YEAR
DESCRIPTION:
URL:https://cwa6222.com/event/happy-new-year/
END:VEVENT
BEGIN:VEVENT
DTSTART;VALUE=DATE:20251231
DTEND;VALUE=DATE:20260101
DTSTAMP:20260423T113256
CREATED:20251201T164839Z
LAST-MODIFIED:20251201T164839Z
UID:10001087-1767139200-1767225599@cwa6222.com
SUMMARY:NEW YEARS EVE
DESCRIPTION:
URL:https://cwa6222.com/event/new-years-eve/
END:VEVENT
BEGIN:VEVENT
DTSTART;VALUE=DATE:20251225
DTEND;VALUE=DATE:20251226
DTSTAMP:20260423T113256
CREATED:20251201T164810Z
LAST-MODIFIED:20251201T164810Z
UID:10001086-1766620800-1766707199@cwa6222.com
SUMMARY:MERRY CHRISTMAS
DESCRIPTION:
URL:https://cwa6222.com/event/merry-christmas/
END:VEVENT
BEGIN:VEVENT
DTSTART;VALUE=DATE:20251224
DTEND;VALUE=DATE:20251225
DTSTAMP:20260423T113256
CREATED:20251201T164739Z
LAST-MODIFIED:20251201T164739Z
UID:10001085-1766534400-1766620799@cwa6222.com
SUMMARY:CHRISTMAS EVE
DESCRIPTION:
URL:https://cwa6222.com/event/christmas-eve/
END:VEVENT
BEGIN:VEVENT
DTSTART;TZID=America/Chicago:20251212T190000
DTEND;TZID=America/Chicago:20251213T000000
DTSTAMP:20260423T113256
CREATED:20251201T164706Z
LAST-MODIFIED:20251201T164706Z
UID:10001084-1765566000-1765584000@cwa6222.com
SUMMARY:CHRISTMAS PARTY
DESCRIPTION:
URL:https://cwa6222.com/event/christmas-party/
END:VEVENT
BEGIN:VEVENT
DTSTART;TZID=America/Chicago:20251210T110000
DTEND;TZID=America/Chicago:20251210T130000
DTSTAMP:20260423T113256
CREATED:20250725T165727Z
LAST-MODIFIED:20250725T165727Z
UID:10000583-1765364400-1765371600@cwa6222.com
SUMMARY:RETIRED MEMBERS MEETING
DESCRIPTION:
URL:https://cwa6222.com/event/retired-members-meeting-5-3/2025-12-10/
END:VEVENT
END:VCALENDAR