BEGIN:VCALENDAR
VERSION:2.0
PRODID:-//CWA Local 6222 - ECPv6.15.20//NONSGML v1.0//EN
CALSCALE:GREGORIAN
METHOD:PUBLISH
X-WR-CALNAME:CWA Local 6222
X-ORIGINAL-URL:https://cwa6222.com
X-WR-CALDESC:Events for CWA Local 6222
REFRESH-INTERVAL;VALUE=DURATION:PT1H
X-Robots-Tag:noindex
X-PUBLISHED-TTL:PT1H
BEGIN:VTIMEZONE
TZID:America/Chicago
BEGIN:DAYLIGHT
TZOFFSETFROM:-0600
TZOFFSETTO:-0500
TZNAME:CDT
DTSTART:20250309T080000
END:DAYLIGHT
BEGIN:STANDARD
TZOFFSETFROM:-0500
TZOFFSETTO:-0600
TZNAME:CST
DTSTART:20251102T070000
END:STANDARD
BEGIN:DAYLIGHT
TZOFFSETFROM:-0600
TZOFFSETTO:-0500
TZNAME:CDT
DTSTART:20260308T080000
END:DAYLIGHT
BEGIN:STANDARD
TZOFFSETFROM:-0500
TZOFFSETTO:-0600
TZNAME:CST
DTSTART:20261101T070000
END:STANDARD
BEGIN:DAYLIGHT
TZOFFSETFROM:-0600
TZOFFSETTO:-0500
TZNAME:CDT
DTSTART:20270314T080000
END:DAYLIGHT
BEGIN:STANDARD
TZOFFSETFROM:-0500
TZOFFSETTO:-0600
TZNAME:CST
DTSTART:20271107T070000
END:STANDARD
END:VTIMEZONE
BEGIN:VEVENT
DTSTART;TZID=America/Chicago:20260409T193000
DTEND;TZID=America/Chicago:20260409T193000
DTSTAMP:20260420T092828
CREATED:20260319T143130Z
LAST-MODIFIED:20260319T143130Z
UID:10001148-1775763000-1775763000@cwa6222.com
SUMMARY:COMMUNITY SERVICES COMMITTEE MEETING
DESCRIPTION:
URL:https://cwa6222.com/event/community-services-committee-meeting/
END:VEVENT
BEGIN:VEVENT
DTSTART;TZID=America/Chicago:20260409T190000
DTEND;TZID=America/Chicago:20260409T190000
DTSTAMP:20260420T092828
CREATED:20260319T143046Z
LAST-MODIFIED:20260319T143046Z
UID:10001147-1775761200-1775761200@cwa6222.com
SUMMARY:WOMENS COMMITTEE MEETING
DESCRIPTION:
URL:https://cwa6222.com/event/womens-committee-meeting-2/
END:VEVENT
BEGIN:VEVENT
DTSTART;TZID=America/Chicago:20260409T183000
DTEND;TZID=America/Chicago:20260409T183000
DTSTAMP:20260420T092828
CREATED:20260319T143007Z
LAST-MODIFIED:20260319T143007Z
UID:10001146-1775759400-1775759400@cwa6222.com
SUMMARY:CENTERS DEPARTMENTAL MEETING
DESCRIPTION:
URL:https://cwa6222.com/event/centers-departmental-meeting/
END:VEVENT
BEGIN:VEVENT
DTSTART;TZID=America/Chicago:20260409T180000
DTEND;TZID=America/Chicago:20260409T180000
DTSTAMP:20260420T092828
CREATED:20260319T142921Z
LAST-MODIFIED:20260319T142921Z
UID:10001145-1775757600-1775757600@cwa6222.com
SUMMARY:CENTERS CHIEF STEWARD MEETING
DESCRIPTION:
URL:https://cwa6222.com/event/centers-chief-steward-meeting/
END:VEVENT
BEGIN:VEVENT
DTSTART;TZID=America/Chicago:20260408T190000
DTEND;TZID=America/Chicago:20260408T190000
DTSTAMP:20260420T092828
CREATED:20260319T142835Z
LAST-MODIFIED:20260319T142835Z
UID:10001144-1775674800-1775674800@cwa6222.com
SUMMARY:NEXTGEN COMMITTEE MEETING
DESCRIPTION:
URL:https://cwa6222.com/event/nextgen-committee-meeting/
END:VEVENT
BEGIN:VEVENT
DTSTART;TZID=America/Chicago:20260408T183000
DTEND;TZID=America/Chicago:20260408T183000
DTSTAMP:20260420T092828
CREATED:20260319T142749Z
LAST-MODIFIED:20260319T142749Z
UID:10001143-1775673000-1775673000@cwa6222.com
SUMMARY:TECHNOLOGY COMMITTEE MTG
DESCRIPTION:MICROSOFT TEAMS
URL:https://cwa6222.com/event/technology-committee-mtg-4/
END:VEVENT
BEGIN:VEVENT
DTSTART;TZID=America/Chicago:20260408T110000
DTEND;TZID=America/Chicago:20260408T130000
DTSTAMP:20260420T092828
CREATED:20250725T165727Z
LAST-MODIFIED:20250725T165727Z
UID:10000587-1775646000-1775653200@cwa6222.com
SUMMARY:RETIRED MEMBERS MEETING
DESCRIPTION:
URL:https://cwa6222.com/event/retired-members-meeting-5-3/2026-04-08/
END:VEVENT
BEGIN:VEVENT
DTSTART;TZID=America/Chicago:20260407T180000
DTEND;TZID=America/Chicago:20260407T180000
DTSTAMP:20260420T092828
CREATED:20260319T142624Z
LAST-MODIFIED:20260319T142624Z
UID:10001142-1775584800-1775584800@cwa6222.com
SUMMARY:LEGISLATIVE COMMITTEE MEETING
DESCRIPTION:
URL:https://cwa6222.com/event/legislative-committee-meeting-3/
END:VEVENT
BEGIN:VEVENT
DTSTART;VALUE=DATE:20260405
DTEND;VALUE=DATE:20260406
DTSTAMP:20260420T092828
CREATED:20260319T142536Z
LAST-MODIFIED:20260319T142536Z
UID:10001141-1775347200-1775433599@cwa6222.com
SUMMARY:EASTER
DESCRIPTION:
URL:https://cwa6222.com/event/easter/
END:VEVENT
BEGIN:VEVENT
DTSTART;VALUE=DATE:20260403
DTEND;VALUE=DATE:20260404
DTSTAMP:20260420T092828
CREATED:20260319T142502Z
LAST-MODIFIED:20260319T142502Z
UID:10001140-1775174400-1775260799@cwa6222.com
SUMMARY:GOOD FRIDAY
DESCRIPTION:
URL:https://cwa6222.com/event/good-friday/
END:VEVENT
BEGIN:VEVENT
DTSTART;TZID=America/Chicago:20260402T193000
DTEND;TZID=America/Chicago:20260402T193000
DTSTAMP:20260420T092828
CREATED:20260319T142225Z
LAST-MODIFIED:20260319T142225Z
UID:10001139-1775158200-1775158200@cwa6222.com
SUMMARY:REGULAR MEMBERSHIP MEETING
DESCRIPTION:
URL:https://cwa6222.com/event/regular-membership-meeting/
END:VEVENT
BEGIN:VEVENT
DTSTART;TZID=America/Chicago:20260402T183000
DTEND;TZID=America/Chicago:20260402T183000
DTSTAMP:20260420T092828
CREATED:20260319T142145Z
LAST-MODIFIED:20260319T142145Z
UID:10001138-1775154600-1775154600@cwa6222.com
SUMMARY:EQUITY COMMITTEE MEETING
DESCRIPTION:
URL:https://cwa6222.com/event/equity-committee-meeting/
END:VEVENT
BEGIN:VEVENT
DTSTART;TZID=America/Chicago:20260401T180000
DTEND;TZID=America/Chicago:20260401T180000
DTSTAMP:20260420T092828
CREATED:20260319T142055Z
LAST-MODIFIED:20260319T142055Z
UID:10001137-1775066400-1775066400@cwa6222.com
SUMMARY:BASIC UNIONISM CLASS
DESCRIPTION:
URL:https://cwa6222.com/event/basic-unionism-class/
END:VEVENT
BEGIN:VEVENT
DTSTART;VALUE=DATE:20260401
DTEND;VALUE=DATE:20260402
DTSTAMP:20260420T092828
CREATED:20260319T142010Z
LAST-MODIFIED:20260319T142010Z
UID:10001136-1775001600-1775087999@cwa6222.com
SUMMARY:APRIL FOOL'S DAY
DESCRIPTION:
URL:https://cwa6222.com/event/april-fools-day/
END:VEVENT
BEGIN:VEVENT
DTSTART;TZID=America/Chicago:20260326T183000
DTEND;TZID=America/Chicago:20260326T183000
DTSTAMP:20260420T092828
CREATED:20260217T204421Z
LAST-MODIFIED:20260217T204421Z
UID:10001135-1774549800-1774549800@cwa6222.com
SUMMARY:EXECUTIVE BOARD MEETING
DESCRIPTION:
URL:https://cwa6222.com/event/executive-board-meeting-4/
END:VEVENT
BEGIN:VEVENT
DTSTART;TZID=America/Chicago:20260319T183000
DTEND;TZID=America/Chicago:20260319T183000
DTSTAMP:20260420T092828
CREATED:20260217T204331Z
LAST-MODIFIED:20260217T204331Z
UID:10001134-1773945000-1773945000@cwa6222.com
SUMMARY:COMBINED\, ALL COMPANIES\, ALL DEPARTMENTS DISTRICT\, CHIEF AND COMMITTEES
DESCRIPTION:
URL:https://cwa6222.com/event/combined-all-companies-all-departments-district-chief-and-committees/
END:VEVENT
BEGIN:VEVENT
DTSTART;VALUE=DATE:20260317
DTEND;VALUE=DATE:20260318
DTSTAMP:20260420T092828
CREATED:20260217T204051Z
LAST-MODIFIED:20260217T204051Z
UID:10001132-1773705600-1773791999@cwa6222.com
SUMMARY:ST PATRICKS DAY
DESCRIPTION:
URL:https://cwa6222.com/event/st-patricks-day/
END:VEVENT
BEGIN:VEVENT
DTSTART;TZID=America/Chicago:20260311T110000
DTEND;TZID=America/Chicago:20260311T130000
DTSTAMP:20260420T092828
CREATED:20250725T165727Z
LAST-MODIFIED:20250725T165727Z
UID:10000586-1773226800-1773234000@cwa6222.com
SUMMARY:RETIRED MEMBERS MEETING
DESCRIPTION:
URL:https://cwa6222.com/event/retired-members-meeting-5-3/2026-03-11/
END:VEVENT
BEGIN:VEVENT
DTSTART;TZID=America/Chicago:20260308T000000
DTEND;TZID=America/Chicago:20260308T000000
DTSTAMP:20260420T092828
CREATED:20260217T204209Z
LAST-MODIFIED:20260217T204209Z
UID:10001133-1772928000-1772928000@cwa6222.com
SUMMARY:DAYLIGHT SAVING TIME BEGINS
DESCRIPTION:
URL:https://cwa6222.com/event/daylight-saving-time-begins/
END:VEVENT
BEGIN:VEVENT
DTSTART;TZID=America/Chicago:20260305T193000
DTEND;TZID=America/Chicago:20260305T193000
DTSTAMP:20260420T092828
CREATED:20260217T204004Z
LAST-MODIFIED:20260217T204004Z
UID:10001131-1772739000-1772739000@cwa6222.com
SUMMARY:GENERAL MEMBERSHIP MEETING
DESCRIPTION:
URL:https://cwa6222.com/event/general-membership-meeting-2/
END:VEVENT
BEGIN:VEVENT
DTSTART;TZID=America/Chicago:20260226T183000
DTEND;TZID=America/Chicago:20260226T183000
DTSTAMP:20260420T092828
CREATED:20260123T194803Z
LAST-MODIFIED:20260123T194803Z
UID:10001110-1772130600-1772130600@cwa6222.com
SUMMARY:EXECUTIVE BOARD MTG
DESCRIPTION:
URL:https://cwa6222.com/event/executive-board-mtg-4/
END:VEVENT
BEGIN:VEVENT
DTSTART;TZID=America/Chicago:20260219T193000
DTEND;TZID=America/Chicago:20260219T193000
DTSTAMP:20260420T092828
CREATED:20260127T162423Z
LAST-MODIFIED:20260127T162423Z
UID:10001128-1771529400-1771529400@cwa6222.com
SUMMARY:INSTALLATION & REPAIR DEPT MTG
DESCRIPTION:
URL:https://cwa6222.com/event/installation-repair-dept-mtg-2/
END:VEVENT
BEGIN:VEVENT
DTSTART;TZID=America/Chicago:20260219T193000
DTEND;TZID=America/Chicago:20260219T193000
DTSTAMP:20260420T092828
CREATED:20260127T162303Z
LAST-MODIFIED:20260127T162303Z
UID:10001127-1771529400-1771529400@cwa6222.com
SUMMARY:MOBILITY RETAIL\, WFH\, IHX\, & TECH DEPT MTG
DESCRIPTION:
URL:https://cwa6222.com/event/mobility-retail-wfh-ihx-tech-dept-mtg-2/
END:VEVENT
BEGIN:VEVENT
DTSTART;TZID=America/Chicago:20260219T190000
DTEND;TZID=America/Chicago:20260219T190000
DTSTAMP:20260420T092828
CREATED:20260127T162219Z
LAST-MODIFIED:20260127T162219Z
UID:10001126-1771527600-1771527600@cwa6222.com
SUMMARY:MOBILIZATION & ORGANIZING COMMITTEE MTG
DESCRIPTION:
URL:https://cwa6222.com/event/mobilization-organizing-committee-mtg-6/
END:VEVENT
BEGIN:VEVENT
DTSTART;TZID=America/Chicago:20260219T183000
DTEND;TZID=America/Chicago:20260219T183000
DTSTAMP:20260420T092828
CREATED:20260127T162141Z
LAST-MODIFIED:20260127T162141Z
UID:10001125-1771525800-1771525800@cwa6222.com
SUMMARY:EDUCATION COMMITTEE MTG
DESCRIPTION:
URL:https://cwa6222.com/event/education-committee-mtg-7/
END:VEVENT
BEGIN:VEVENT
DTSTART;TZID=America/Chicago:20260219T183000
DTEND;TZID=America/Chicago:20260219T183000
DTSTAMP:20260420T092828
CREATED:20260127T162105Z
LAST-MODIFIED:20260127T162105Z
UID:10001124-1771525800-1771525800@cwa6222.com
SUMMARY:UVERSE DEPT MTG
DESCRIPTION:
URL:https://cwa6222.com/event/uverse-dept-mtg-5/
END:VEVENT
BEGIN:VEVENT
DTSTART;TZID=America/Chicago:20260219T181500
DTEND;TZID=America/Chicago:20260219T181500
DTSTAMP:20260420T092828
CREATED:20260127T162029Z
LAST-MODIFIED:20260127T162029Z
UID:10001123-1771524900-1771524900@cwa6222.com
SUMMARY:HEALTH & SAFETY COMMITTEE MTG
DESCRIPTION:
URL:https://cwa6222.com/event/health-safety-committee-mtg-7/
END:VEVENT
BEGIN:VEVENT
DTSTART;TZID=America/Chicago:20260219T180000
DTEND;TZID=America/Chicago:20260219T180000
DTSTAMP:20260420T092828
CREATED:20260127T161923Z
LAST-MODIFIED:20260127T161923Z
UID:10001122-1771524000-1771524000@cwa6222.com
SUMMARY:SWITCHING DEPT MTG/CONF CALL
DESCRIPTION:
URL:https://cwa6222.com/event/switching-dept-mtg-conf-call-4/
END:VEVENT
BEGIN:VEVENT
DTSTART;TZID=America/Chicago:20260219T173000
DTEND;TZID=America/Chicago:20260219T173000
DTSTAMP:20260420T092828
CREATED:20260127T161820Z
LAST-MODIFIED:20260127T161820Z
UID:10001121-1771522200-1771522200@cwa6222.com
SUMMARY:System Techs Dept Mtg/Conf
DESCRIPTION:
URL:https://cwa6222.com/event/system-techs-dept-mtg-conf/
END:VEVENT
BEGIN:VEVENT
DTSTART;TZID=America/Chicago:20260219T170000
DTEND;TZID=America/Chicago:20260219T170000
DTSTAMP:20260420T092828
CREATED:20260127T161705Z
LAST-MODIFIED:20260127T161705Z
UID:10001120-1771520400-1771520400@cwa6222.com
SUMMARY:Construction/Engineering Dept Mtg
DESCRIPTION:
URL:https://cwa6222.com/event/construction-engineering-dept-mtg-3/
END:VEVENT
END:VCALENDAR