BEGIN:VCALENDAR
VERSION:2.0
PRODID:-//CWA Local 6222 - ECPv6.15.20//NONSGML v1.0//EN
CALSCALE:GREGORIAN
METHOD:PUBLISH
X-WR-CALNAME:CWA Local 6222
X-ORIGINAL-URL:https://cwa6222.com
X-WR-CALDESC:Events for CWA Local 6222
REFRESH-INTERVAL;VALUE=DURATION:PT1H
X-Robots-Tag:noindex
X-PUBLISHED-TTL:PT1H
BEGIN:VTIMEZONE
TZID:America/Chicago
BEGIN:DAYLIGHT
TZOFFSETFROM:-0600
TZOFFSETTO:-0500
TZNAME:CDT
DTSTART:20220313T080000
END:DAYLIGHT
BEGIN:STANDARD
TZOFFSETFROM:-0500
TZOFFSETTO:-0600
TZNAME:CST
DTSTART:20221106T070000
END:STANDARD
BEGIN:DAYLIGHT
TZOFFSETFROM:-0600
TZOFFSETTO:-0500
TZNAME:CDT
DTSTART:20230312T080000
END:DAYLIGHT
BEGIN:STANDARD
TZOFFSETFROM:-0500
TZOFFSETTO:-0600
TZNAME:CST
DTSTART:20231105T070000
END:STANDARD
BEGIN:DAYLIGHT
TZOFFSETFROM:-0600
TZOFFSETTO:-0500
TZNAME:CDT
DTSTART:20240310T080000
END:DAYLIGHT
BEGIN:STANDARD
TZOFFSETFROM:-0500
TZOFFSETTO:-0600
TZNAME:CST
DTSTART:20241103T070000
END:STANDARD
BEGIN:DAYLIGHT
TZOFFSETFROM:-0600
TZOFFSETTO:-0500
TZNAME:CDT
DTSTART:20250309T080000
END:DAYLIGHT
BEGIN:STANDARD
TZOFFSETFROM:-0500
TZOFFSETTO:-0600
TZNAME:CST
DTSTART:20251102T070000
END:STANDARD
BEGIN:DAYLIGHT
TZOFFSETFROM:-0600
TZOFFSETTO:-0500
TZNAME:CDT
DTSTART:20260308T080000
END:DAYLIGHT
BEGIN:STANDARD
TZOFFSETFROM:-0500
TZOFFSETTO:-0600
TZNAME:CST
DTSTART:20261101T070000
END:STANDARD
END:VTIMEZONE
BEGIN:VEVENT
DTSTART;TZID=America/Chicago:20250514T193000
DTEND;TZID=America/Chicago:20250514T193000
DTSTAMP:20260420T030323
CREATED:20250415T152658Z
LAST-MODIFIED:20250415T152658Z
UID:10000940-1747251000-1747251000@cwa6222.com
SUMMARY:NextGen Committee Mtg
DESCRIPTION:
URL:https://cwa6222.com/event/nextgen-committee-mtg-2/
END:VEVENT
BEGIN:VEVENT
DTSTART;TZID=America/Chicago:20250513T190000
DTEND;TZID=America/Chicago:20250513T190000
DTSTAMP:20260420T030323
CREATED:20250415T152609Z
LAST-MODIFIED:20250415T152609Z
UID:10000939-1747162800-1747162800@cwa6222.com
SUMMARY:Out of Town Conf Call
DESCRIPTION:
URL:https://cwa6222.com/event/out-of-town-conf-call-3/
END:VEVENT
BEGIN:VEVENT
DTSTART;VALUE=DATE:20250511
DTEND;VALUE=DATE:20250512
DTSTAMP:20260420T030323
CREATED:20250415T145916Z
LAST-MODIFIED:20250415T145916Z
UID:10000938-1746921600-1747007999@cwa6222.com
SUMMARY:Mother's Day
DESCRIPTION:
URL:https://cwa6222.com/event/mothers-day/
END:VEVENT
BEGIN:VEVENT
DTSTART;TZID=America/Chicago:20250508T193000
DTEND;TZID=America/Chicago:20250508T193000
DTSTAMP:20260420T030323
CREATED:20250415T145850Z
LAST-MODIFIED:20250415T145850Z
UID:10000937-1746732600-1746732600@cwa6222.com
SUMMARY:Community Svcs Committee Mtg
DESCRIPTION:
URL:https://cwa6222.com/event/community-svcs-committee-mtg-2/
END:VEVENT
BEGIN:VEVENT
DTSTART;TZID=America/Chicago:20250508T190000
DTEND;TZID=America/Chicago:20250508T190000
DTSTAMP:20260420T030323
CREATED:20250415T145805Z
LAST-MODIFIED:20250415T145805Z
UID:10000936-1746730800-1746730800@cwa6222.com
SUMMARY:Women's Committee Meeting
DESCRIPTION:
URL:https://cwa6222.com/event/womens-committee-meeting/
END:VEVENT
BEGIN:VEVENT
DTSTART;TZID=America/Chicago:20250508T183000
DTEND;TZID=America/Chicago:20250508T183000
DTSTAMP:20260420T030323
CREATED:20250415T145732Z
LAST-MODIFIED:20250415T145732Z
UID:10000935-1746729000-1746729000@cwa6222.com
SUMMARY:Centers Dept Mtg
DESCRIPTION:
URL:https://cwa6222.com/event/centers-dept-mtg-4/
END:VEVENT
BEGIN:VEVENT
DTSTART;TZID=America/Chicago:20250508T180000
DTEND;TZID=America/Chicago:20250508T180000
DTSTAMP:20260420T030323
CREATED:20250415T145658Z
LAST-MODIFIED:20250415T145658Z
UID:10000934-1746727200-1746727200@cwa6222.com
SUMMARY:Centers Chief Stwds Mtg
DESCRIPTION:
URL:https://cwa6222.com/event/centers-chief-stwds-mtg-2/
END:VEVENT
BEGIN:VEVENT
DTSTART;TZID=America/Chicago:20250506T180000
DTEND;TZID=America/Chicago:20250506T180000
DTSTAMP:20260420T030323
CREATED:20250415T145436Z
LAST-MODIFIED:20250415T145436Z
UID:10000933-1746554400-1746554400@cwa6222.com
SUMMARY:Legislative Committee Mtg
DESCRIPTION:
URL:https://cwa6222.com/event/legislative-committee-mtg-2/
END:VEVENT
BEGIN:VEVENT
DTSTART;TZID=America/Chicago:20250501T193000
DTEND;TZID=America/Chicago:20250501T193000
DTSTAMP:20260420T030323
CREATED:20250415T145329Z
LAST-MODIFIED:20250415T145329Z
UID:10000932-1746127800-1746127800@cwa6222.com
SUMMARY:General Membership Meeting
DESCRIPTION:
URL:https://cwa6222.com/event/general-membership-meeting-4/
END:VEVENT
BEGIN:VEVENT
DTSTART;TZID=America/Chicago:20250501T183000
DTEND;TZID=America/Chicago:20250501T183000
DTSTAMP:20260420T030323
CREATED:20250415T145240Z
LAST-MODIFIED:20250415T145240Z
UID:10000931-1746124200-1746124200@cwa6222.com
SUMMARY:Equity Committee Mtg
DESCRIPTION:
URL:https://cwa6222.com/event/equity-committee-mtg-4/
END:VEVENT
BEGIN:VEVENT
DTSTART;TZID=America/Chicago:20250306T193000
DTEND;TZID=America/Chicago:20250306T193000
DTSTAMP:20260420T030323
CREATED:20241220T165008Z
LAST-MODIFIED:20250221T211332Z
UID:10000852-1741289400-1741289400@cwa6222.com
SUMMARY:GENERAL MEMBERSHIP MTG
DESCRIPTION:
URL:https://cwa6222.com/event/general-membership-mtg/
END:VEVENT
BEGIN:VEVENT
DTSTART;TZID=America/Chicago:20250220T193000
DTEND;TZID=America/Chicago:20250220T193000
DTSTAMP:20260420T030323
CREATED:20241220T170124Z
LAST-MODIFIED:20250124T185242Z
UID:10000864-1740079800-1740079800@cwa6222.com
SUMMARY:INSTALLATION & REPAIR DEPT MTG
DESCRIPTION:
URL:https://cwa6222.com/event/installation-repair-dept-mtg/
END:VEVENT
BEGIN:VEVENT
DTSTART;TZID=America/Chicago:20250220T193000
DTEND;TZID=America/Chicago:20250220T193000
DTSTAMP:20260420T030323
CREATED:20241220T170048Z
LAST-MODIFIED:20250124T185307Z
UID:10000863-1740079800-1740079800@cwa6222.com
SUMMARY:MOBILITY RETAIL\, WFH\, & TECHS DEPT MTG/CONF CALL
DESCRIPTION:
URL:https://cwa6222.com/event/mobility-retail-wfh-techs-dept-mtg-conf-call-3/
END:VEVENT
BEGIN:VEVENT
DTSTART;TZID=America/Chicago:20250220T190000
DTEND;TZID=America/Chicago:20250220T190000
DTSTAMP:20260420T030323
CREATED:20241220T165951Z
LAST-MODIFIED:20250124T185344Z
UID:10000862-1740078000-1740078000@cwa6222.com
SUMMARY:MOBILIZATION & ORGANIZING COMMITTEE MTG
DESCRIPTION:
URL:https://cwa6222.com/event/mobilization-organizing-committee-mtg-4/
END:VEVENT
BEGIN:VEVENT
DTSTART;TZID=America/Chicago:20250220T183000
DTEND;TZID=America/Chicago:20250220T183000
DTSTAMP:20260420T030323
CREATED:20241220T165734Z
LAST-MODIFIED:20250124T185406Z
UID:10000860-1740076200-1740076200@cwa6222.com
SUMMARY:UVERSE DEPT MTG
DESCRIPTION:
URL:https://cwa6222.com/event/uverse-dept-mtg-2/
END:VEVENT
BEGIN:VEVENT
DTSTART;TZID=America/Chicago:20250220T183000
DTEND;TZID=America/Chicago:20250220T183000
DTSTAMP:20260420T030323
CREATED:20241220T165453Z
LAST-MODIFIED:20250124T185444Z
UID:10000858-1740076200-1740076200@cwa6222.com
SUMMARY:EDUCATION COMMITTEE MTG
DESCRIPTION:
URL:https://cwa6222.com/event/uverse-dept-mtg/
END:VEVENT
BEGIN:VEVENT
DTSTART;TZID=America/Chicago:20250220T183000
DTEND;TZID=America/Chicago:20250220T183000
DTSTAMP:20260420T030323
CREATED:20240927T194345Z
LAST-MODIFIED:20250124T185736Z
UID:10000815-1740076200-1740076200@cwa6222.com
SUMMARY:EDUCATION COMMITTEE MTG
DESCRIPTION:
URL:https://cwa6222.com/event/education-committee-mtg/
END:VEVENT
BEGIN:VEVENT
DTSTART;TZID=America/Chicago:20230907T193000
DTEND;TZID=America/Chicago:20230907T193000
DTSTAMP:20260420T030323
CREATED:20230815T173929Z
LAST-MODIFIED:20230815T174236Z
UID:10000425-1694115000-1694115000@cwa6222.com
SUMMARY:General Membership Meeting/Nominations for Officers & E-Board
DESCRIPTION:
URL:https://cwa6222.com/event/general-membership-meeting-5/
END:VEVENT
END:VCALENDAR