BEGIN:VCALENDAR
VERSION:2.0
PRODID:-//CWA Local 6222 - ECPv6.15.20//NONSGML v1.0//EN
CALSCALE:GREGORIAN
METHOD:PUBLISH
X-ORIGINAL-URL:https://cwa6222.com
X-WR-CALDESC:Events for CWA Local 6222
REFRESH-INTERVAL;VALUE=DURATION:PT1H
X-Robots-Tag:noindex
X-PUBLISHED-TTL:PT1H
BEGIN:VTIMEZONE
TZID:America/Chicago
BEGIN:DAYLIGHT
TZOFFSETFROM:-0600
TZOFFSETTO:-0500
TZNAME:CDT
DTSTART:20240310T080000
END:DAYLIGHT
BEGIN:STANDARD
TZOFFSETFROM:-0500
TZOFFSETTO:-0600
TZNAME:CST
DTSTART:20241103T070000
END:STANDARD
BEGIN:DAYLIGHT
TZOFFSETFROM:-0600
TZOFFSETTO:-0500
TZNAME:CDT
DTSTART:20250309T080000
END:DAYLIGHT
BEGIN:STANDARD
TZOFFSETFROM:-0500
TZOFFSETTO:-0600
TZNAME:CST
DTSTART:20251102T070000
END:STANDARD
BEGIN:DAYLIGHT
TZOFFSETFROM:-0600
TZOFFSETTO:-0500
TZNAME:CDT
DTSTART:20260308T080000
END:DAYLIGHT
BEGIN:STANDARD
TZOFFSETFROM:-0500
TZOFFSETTO:-0600
TZNAME:CST
DTSTART:20261101T070000
END:STANDARD
END:VTIMEZONE
BEGIN:VEVENT
DTSTART;TZID=America/Chicago:20251019T103000
DTEND;TZID=America/Chicago:20251019T120000
DTSTAMP:20260420T023213
CREATED:20250926T213045Z
LAST-MODIFIED:20250926T213045Z
UID:10001060-1760869800-1760875200@cwa6222.com
SUMMARY:Breast Cancer Awareness Walk
DESCRIPTION:Bring your friends and family!  Meet at Memorial Park\, 6501 Memorial Dr\, Houston\, TX 77007 \nColor theme is Pink & Red \nWater will be provided
URL:https://cwa6222.com/event/breast-cancer-awareness-walk/
END:VEVENT
BEGIN:VEVENT
DTSTART;TZID=America/Chicago:20251023T170000
DTEND;TZID=America/Chicago:20251023T170000
DTSTAMP:20260420T023213
CREATED:20250926T211838Z
LAST-MODIFIED:20250926T211838Z
UID:10001050-1761238800-1761238800@cwa6222.com
SUMMARY:Construction & Engineering Dept Mtg
DESCRIPTION:
URL:https://cwa6222.com/event/construction-engineering-dept-mtg/
END:VEVENT
BEGIN:VEVENT
DTSTART;TZID=America/Chicago:20251023T173000
DTEND;TZID=America/Chicago:20251023T173000
DTSTAMP:20260420T023213
CREATED:20250926T211918Z
LAST-MODIFIED:20250926T211918Z
UID:10001051-1761240600-1761240600@cwa6222.com
SUMMARY:System Techs Dept Mtg
DESCRIPTION:
URL:https://cwa6222.com/event/system-techs-dept-mtg/
END:VEVENT
BEGIN:VEVENT
DTSTART;TZID=America/Chicago:20251023T180000
DTEND;TZID=America/Chicago:20251023T180000
DTSTAMP:20260420T023213
CREATED:20250926T211959Z
LAST-MODIFIED:20250926T211959Z
UID:10001052-1761242400-1761242400@cwa6222.com
SUMMARY:Switching Dept Mtg
DESCRIPTION:
URL:https://cwa6222.com/event/switching-dept-mtg/
END:VEVENT
BEGIN:VEVENT
DTSTART;TZID=America/Chicago:20251023T181500
DTEND;TZID=America/Chicago:20251023T181500
DTSTAMP:20260420T023213
CREATED:20250926T212058Z
LAST-MODIFIED:20250926T212058Z
UID:10001053-1761243300-1761243300@cwa6222.com
SUMMARY:Health & Safety Committee Mtg
DESCRIPTION:
URL:https://cwa6222.com/event/health-safety-committee-mtg-2/
END:VEVENT
BEGIN:VEVENT
DTSTART;TZID=America/Chicago:20251023T183000
DTEND;TZID=America/Chicago:20251023T183000
DTSTAMP:20260420T023213
CREATED:20250926T212147Z
LAST-MODIFIED:20250926T212147Z
UID:10001054-1761244200-1761244200@cwa6222.com
SUMMARY:Education Committee Mtg
DESCRIPTION:
URL:https://cwa6222.com/event/education-committee-mtg-2/
END:VEVENT
BEGIN:VEVENT
DTSTART;TZID=America/Chicago:20251023T190000
DTEND;TZID=America/Chicago:20251023T190000
DTSTAMP:20260420T023213
CREATED:20250926T212236Z
LAST-MODIFIED:20250926T212250Z
UID:10001055-1761246000-1761246000@cwa6222.com
SUMMARY:Mobilization & Organizing Committee Mtg
DESCRIPTION:
URL:https://cwa6222.com/event/mobilization-organizing-committee-mtg/
END:VEVENT
BEGIN:VEVENT
DTSTART;TZID=America/Chicago:20251023T193000
DTEND;TZID=America/Chicago:20251023T193000
DTSTAMP:20260420T023213
CREATED:20250926T212348Z
LAST-MODIFIED:20250926T212348Z
UID:10001056-1761247800-1761247800@cwa6222.com
SUMMARY:Mobility Retail\, WFH & Techs Dept Mtg/Conf Call
DESCRIPTION:
URL:https://cwa6222.com/event/mobility-retail-wfh-techs-dept-mtg-conf-call/
END:VEVENT
BEGIN:VEVENT
DTSTART;TZID=America/Chicago:20251023T193000
DTEND;TZID=America/Chicago:20251023T193000
DTSTAMP:20260420T023213
CREATED:20250926T212419Z
LAST-MODIFIED:20250926T212419Z
UID:10001057-1761247800-1761247800@cwa6222.com
SUMMARY:I & R Dept Mtg
DESCRIPTION:
URL:https://cwa6222.com/event/i-r-dept-mtg/
END:VEVENT
BEGIN:VEVENT
DTSTART;TZID=America/Chicago:20251030T183000
DTEND;TZID=America/Chicago:20251030T183000
DTSTAMP:20260420T023213
CREATED:20250926T212500Z
LAST-MODIFIED:20250926T212500Z
UID:10001058-1761849000-1761849000@cwa6222.com
SUMMARY:Executive Board Mtg
DESCRIPTION:
URL:https://cwa6222.com/event/executive-board-mtg/
END:VEVENT
BEGIN:VEVENT
DTSTART;VALUE=DATE:20251031
DTEND;VALUE=DATE:20251101
DTSTAMP:20260420T023213
CREATED:20250926T212708Z
LAST-MODIFIED:20250926T212708Z
UID:10001059-1761868800-1761955199@cwa6222.com
SUMMARY:Happy Halloween
DESCRIPTION:
URL:https://cwa6222.com/event/happy-halloween/
END:VEVENT
BEGIN:VEVENT
DTSTART;TZID=America/Chicago:20251104T180000
DTEND;TZID=America/Chicago:20251104T180000
DTSTAMP:20260420T023213
CREATED:20251028T164242Z
LAST-MODIFIED:20251028T164242Z
UID:10001061-1762279200-1762279200@cwa6222.com
SUMMARY:Legislative Committee Mtg
DESCRIPTION:
URL:https://cwa6222.com/event/legislative-committee-mtg-3/
END:VEVENT
BEGIN:VEVENT
DTSTART;TZID=America/Chicago:20251106T183000
DTEND;TZID=America/Chicago:20251106T183000
DTSTAMP:20260420T023213
CREATED:20251028T164332Z
LAST-MODIFIED:20251028T164332Z
UID:10001062-1762453800-1762453800@cwa6222.com
SUMMARY:Technology Committee Mtg
DESCRIPTION:
URL:https://cwa6222.com/event/technology-committee-mtg/
END:VEVENT
BEGIN:VEVENT
DTSTART;TZID=America/Chicago:20251106T183000
DTEND;TZID=America/Chicago:20251106T183000
DTSTAMP:20260420T023213
CREATED:20251028T164407Z
LAST-MODIFIED:20251028T164407Z
UID:10001063-1762453800-1762453800@cwa6222.com
SUMMARY:Equity Committee Mtg
DESCRIPTION:
URL:https://cwa6222.com/event/equity-committee-mtg-2/
END:VEVENT
BEGIN:VEVENT
DTSTART;TZID=America/Chicago:20251106T193000
DTEND;TZID=America/Chicago:20251106T193000
DTSTAMP:20260420T023213
CREATED:20251028T164457Z
LAST-MODIFIED:20251028T164457Z
UID:10001064-1762457400-1762457400@cwa6222.com
SUMMARY:General Membership Mtg
DESCRIPTION:
URL:https://cwa6222.com/event/general-membership-mtg-2/
END:VEVENT
BEGIN:VEVENT
DTSTART;TZID=America/Chicago:20251111T183000
DTEND;TZID=America/Chicago:20251111T183000
DTSTAMP:20260420T023213
CREATED:20251028T170519Z
LAST-MODIFIED:20251028T170519Z
UID:10001080-1762885800-1762885800@cwa6222.com
SUMMARY:Out of Town Conf Call
DESCRIPTION:
URL:https://cwa6222.com/event/out-of-town-conf-call-2/
END:VEVENT
BEGIN:VEVENT
DTSTART;TZID=America/Chicago:20251112T110000
DTEND;TZID=America/Chicago:20251112T130000
DTSTAMP:20260420T023213
CREATED:20250725T165727Z
LAST-MODIFIED:20250725T165727Z
UID:10000582-1762945200-1762952400@cwa6222.com
SUMMARY:RETIRED MEMBERS MEETING
DESCRIPTION:
URL:https://cwa6222.com/event/retired-members-meeting-5-3/2025-11-12/
END:VEVENT
BEGIN:VEVENT
DTSTART;TZID=America/Chicago:20251112T190000
DTEND;TZID=America/Chicago:20251112T190000
DTSTAMP:20260420T023213
CREATED:20251028T164556Z
LAST-MODIFIED:20251028T164556Z
UID:10001065-1762974000-1762974000@cwa6222.com
SUMMARY:NextGen Committee Mtg
DESCRIPTION:
URL:https://cwa6222.com/event/nextgen-committee-mtg/
END:VEVENT
BEGIN:VEVENT
DTSTART;TZID=America/Chicago:20251113T180000
DTEND;TZID=America/Chicago:20251113T180000
DTSTAMP:20260420T023213
CREATED:20251028T164635Z
LAST-MODIFIED:20251028T164635Z
UID:10001066-1763056800-1763056800@cwa6222.com
SUMMARY:Centers Chief Stwds Mtg
DESCRIPTION:
URL:https://cwa6222.com/event/centers-chief-stwds-mtg-3/
END:VEVENT
BEGIN:VEVENT
DTSTART;TZID=America/Chicago:20251113T183000
DTEND;TZID=America/Chicago:20251113T183000
DTSTAMP:20260420T023213
CREATED:20251028T164714Z
LAST-MODIFIED:20251028T164714Z
UID:10001067-1763058600-1763058600@cwa6222.com
SUMMARY:Centers Dept Mtg
DESCRIPTION:
URL:https://cwa6222.com/event/centers-dept-mtg/
END:VEVENT
BEGIN:VEVENT
DTSTART;TZID=America/Chicago:20251113T190000
DTEND;TZID=America/Chicago:20251113T190000
DTSTAMP:20260420T023213
CREATED:20251028T164749Z
LAST-MODIFIED:20251028T164749Z
UID:10001068-1763060400-1763060400@cwa6222.com
SUMMARY:Women's Committee Mtg
DESCRIPTION:
URL:https://cwa6222.com/event/womens-committee-mtg/
END:VEVENT
BEGIN:VEVENT
DTSTART;TZID=America/Chicago:20251113T193000
DTEND;TZID=America/Chicago:20251113T193000
DTSTAMP:20260420T023213
CREATED:20251028T164833Z
LAST-MODIFIED:20251028T164833Z
UID:10001069-1763062200-1763062200@cwa6222.com
SUMMARY:Community Svcs Committee Mtg
DESCRIPTION:
URL:https://cwa6222.com/event/community-svcs-committee-mtg/
END:VEVENT
BEGIN:VEVENT
DTSTART;TZID=America/Chicago:20251119T130000
DTEND;TZID=America/Chicago:20251119T170000
DTSTAMP:20260420T023213
CREATED:20251028T164927Z
LAST-MODIFIED:20251028T164927Z
UID:10001070-1763557200-1763571600@cwa6222.com
SUMMARY:Executive Board Mtg
DESCRIPTION:
URL:https://cwa6222.com/event/executive-board-mtg-2/
END:VEVENT
BEGIN:VEVENT
DTSTART;TZID=America/Chicago:20251120T170000
DTEND;TZID=America/Chicago:20251120T170000
DTSTAMP:20260420T023213
CREATED:20251028T165021Z
LAST-MODIFIED:20251028T165021Z
UID:10001071-1763658000-1763658000@cwa6222.com
SUMMARY:Construction/Engineering Dept Mtg
DESCRIPTION:
URL:https://cwa6222.com/event/construction-engineering-dept-mtg-2/
END:VEVENT
BEGIN:VEVENT
DTSTART;TZID=America/Chicago:20251120T173000
DTEND;TZID=America/Chicago:20251120T173000
DTSTAMP:20260420T023213
CREATED:20251028T165053Z
LAST-MODIFIED:20251028T165053Z
UID:10001072-1763659800-1763659800@cwa6222.com
SUMMARY:System Techs Dept Mtg
DESCRIPTION:
URL:https://cwa6222.com/event/system-techs-dept-mtg-2/
END:VEVENT
BEGIN:VEVENT
DTSTART;TZID=America/Chicago:20251120T180000
DTEND;TZID=America/Chicago:20251120T180000
DTSTAMP:20260420T023213
CREATED:20251028T165128Z
LAST-MODIFIED:20251028T165128Z
UID:10001073-1763661600-1763661600@cwa6222.com
SUMMARY:Switching Dept Mtg
DESCRIPTION:
URL:https://cwa6222.com/event/switching-dept-mtg-2/
END:VEVENT
BEGIN:VEVENT
DTSTART;TZID=America/Chicago:20251120T181500
DTEND;TZID=America/Chicago:20251120T181500
DTSTAMP:20260420T023213
CREATED:20251028T165225Z
LAST-MODIFIED:20251028T165225Z
UID:10001074-1763662500-1763662500@cwa6222.com
SUMMARY:Health & Safety Committee Mtg
DESCRIPTION:
URL:https://cwa6222.com/event/health-safety-committee-mtg-3/
END:VEVENT
BEGIN:VEVENT
DTSTART;TZID=America/Chicago:20251120T183000
DTEND;TZID=America/Chicago:20251120T183000
DTSTAMP:20260420T023213
CREATED:20251028T165259Z
LAST-MODIFIED:20251028T165259Z
UID:10001075-1763663400-1763663400@cwa6222.com
SUMMARY:Education Committee Mtg
DESCRIPTION:
URL:https://cwa6222.com/event/education-committee-mtg-5/
END:VEVENT
BEGIN:VEVENT
DTSTART;TZID=America/Chicago:20251120T183000
DTEND;TZID=America/Chicago:20251120T183000
DTSTAMP:20260420T023213
CREATED:20251028T165340Z
LAST-MODIFIED:20251028T165340Z
UID:10001076-1763663400-1763663400@cwa6222.com
SUMMARY:Uverse Dept Mtg
DESCRIPTION:
URL:https://cwa6222.com/event/uverse-dept-mtg-3/
END:VEVENT
BEGIN:VEVENT
DTSTART;TZID=America/Chicago:20251120T190000
DTEND;TZID=America/Chicago:20251120T190000
DTSTAMP:20260420T023213
CREATED:20251028T165419Z
LAST-MODIFIED:20251028T165419Z
UID:10001077-1763665200-1763665200@cwa6222.com
SUMMARY:Mobilization & Organizing Committee Mtg
DESCRIPTION:
URL:https://cwa6222.com/event/mobilization-organizing-committee-mtg-2/
END:VEVENT
END:VCALENDAR