BEGIN:VCALENDAR
VERSION:2.0
PRODID:-//CWA Local 6222 - ECPv6.15.20//NONSGML v1.0//EN
CALSCALE:GREGORIAN
METHOD:PUBLISH
X-ORIGINAL-URL:https://cwa6222.com
X-WR-CALDESC:Events for CWA Local 6222
REFRESH-INTERVAL;VALUE=DURATION:PT1H
X-Robots-Tag:noindex
X-PUBLISHED-TTL:PT1H
BEGIN:VTIMEZONE
TZID:America/Chicago
BEGIN:DAYLIGHT
TZOFFSETFROM:-0600
TZOFFSETTO:-0500
TZNAME:CDT
DTSTART:20240310T080000
END:DAYLIGHT
BEGIN:STANDARD
TZOFFSETFROM:-0500
TZOFFSETTO:-0600
TZNAME:CST
DTSTART:20241103T070000
END:STANDARD
BEGIN:DAYLIGHT
TZOFFSETFROM:-0600
TZOFFSETTO:-0500
TZNAME:CDT
DTSTART:20250309T080000
END:DAYLIGHT
BEGIN:STANDARD
TZOFFSETFROM:-0500
TZOFFSETTO:-0600
TZNAME:CST
DTSTART:20251102T070000
END:STANDARD
BEGIN:DAYLIGHT
TZOFFSETFROM:-0600
TZOFFSETTO:-0500
TZNAME:CDT
DTSTART:20260308T080000
END:DAYLIGHT
BEGIN:STANDARD
TZOFFSETFROM:-0500
TZOFFSETTO:-0600
TZNAME:CST
DTSTART:20261101T070000
END:STANDARD
END:VTIMEZONE
BEGIN:VEVENT
DTSTART;TZID=America/Chicago:20250701T180000
DTEND;TZID=America/Chicago:20250701T180000
DTSTAMP:20260419T172943
CREATED:20250619T181340Z
LAST-MODIFIED:20250619T181509Z
UID:10000954-1751392800-1751392800@cwa6222.com
SUMMARY:Legislative Committee Meeting
DESCRIPTION:
URL:https://cwa6222.com/event/legislative-committee-meeting/
END:VEVENT
BEGIN:VEVENT
DTSTART;TZID=America/Chicago:20250709T193000
DTEND;TZID=America/Chicago:20250709T193000
DTSTAMP:20260419T172943
CREATED:20250619T182158Z
LAST-MODIFIED:20250619T182158Z
UID:10000956-1752089400-1752089400@cwa6222.com
SUMMARY:Next Gen Committee Meeting
DESCRIPTION:
URL:https://cwa6222.com/event/next-gen-committee-meeting/
END:VEVENT
BEGIN:VEVENT
DTSTART;TZID=America/Chicago:20250710T183000
DTEND;TZID=America/Chicago:20250710T183000
DTSTAMP:20260419T172943
CREATED:20250619T182259Z
LAST-MODIFIED:20250619T182259Z
UID:10000957-1752172200-1752172200@cwa6222.com
SUMMARY:Equity Committee Meeting
DESCRIPTION:
URL:https://cwa6222.com/event/equity-committee-meeting-2/
END:VEVENT
BEGIN:VEVENT
DTSTART;TZID=America/Chicago:20250710T193000
DTEND;TZID=America/Chicago:20250710T193000
DTSTAMP:20260419T172943
CREATED:20250619T182616Z
LAST-MODIFIED:20250619T182616Z
UID:10000958-1752175800-1752175800@cwa6222.com
SUMMARY:General Membership Meeting
DESCRIPTION:
URL:https://cwa6222.com/event/general-membership-meeting-7/
END:VEVENT
BEGIN:VEVENT
DTSTART;TZID=America/Chicago:20250715T190000
DTEND;TZID=America/Chicago:20250715T190000
DTSTAMP:20260419T172943
CREATED:20250619T182700Z
LAST-MODIFIED:20250619T182700Z
UID:10000959-1752606000-1752606000@cwa6222.com
SUMMARY:Out of Town Conf Call
DESCRIPTION:
URL:https://cwa6222.com/event/out-of-town-conf-call-6/
END:VEVENT
BEGIN:VEVENT
DTSTART;TZID=America/Chicago:20250717T170000
DTEND;TZID=America/Chicago:20250717T170000
DTSTAMP:20260419T172943
CREATED:20250619T182857Z
LAST-MODIFIED:20250619T182857Z
UID:10000960-1752771600-1752771600@cwa6222.com
SUMMARY:Construction/Engineering Dept Mtg/Conf Call
DESCRIPTION:
URL:https://cwa6222.com/event/construction-engineering-dept-mtg-conf-call-3/
END:VEVENT
BEGIN:VEVENT
DTSTART;TZID=America/Chicago:20250717T173000
DTEND;TZID=America/Chicago:20250717T173000
DTSTAMP:20260419T172943
CREATED:20250619T183007Z
LAST-MODIFIED:20250619T183007Z
UID:10000961-1752773400-1752773400@cwa6222.com
SUMMARY:System Techs Dept Mtg/Conf Call
DESCRIPTION:
URL:https://cwa6222.com/event/system-techs-dept-mtg-conf-call-3/
END:VEVENT
BEGIN:VEVENT
DTSTART;TZID=America/Chicago:20250717T180000
DTEND;TZID=America/Chicago:20250717T180000
DTSTAMP:20260419T172943
CREATED:20250619T183143Z
LAST-MODIFIED:20250619T183143Z
UID:10000962-1752775200-1752775200@cwa6222.com
SUMMARY:Switching Dept Mtg/Conf Call
DESCRIPTION:
URL:https://cwa6222.com/event/switching-dept-mtg-conf-call-7/
END:VEVENT
BEGIN:VEVENT
DTSTART;TZID=America/Chicago:20250717T180000
DTEND;TZID=America/Chicago:20250717T180000
DTSTAMP:20260419T172943
CREATED:20250619T183325Z
LAST-MODIFIED:20250619T183325Z
UID:10000963-1752775200-1752775200@cwa6222.com
SUMMARY:Centers Chief Stwds Mtg
DESCRIPTION:
URL:https://cwa6222.com/event/centers-chief-stwds-mtg-4/
END:VEVENT
BEGIN:VEVENT
DTSTART;TZID=America/Chicago:20250717T181500
DTEND;TZID=America/Chicago:20250717T181500
DTSTAMP:20260419T172943
CREATED:20250619T183438Z
LAST-MODIFIED:20250619T183438Z
UID:10000964-1752776100-1752776100@cwa6222.com
SUMMARY:Health & Safety Committee Mtg
DESCRIPTION:
URL:https://cwa6222.com/event/health-safety-committee-mtg-6/
END:VEVENT
BEGIN:VEVENT
DTSTART;TZID=America/Chicago:20250717T183000
DTEND;TZID=America/Chicago:20250717T183000
DTSTAMP:20260419T172943
CREATED:20250619T183516Z
LAST-MODIFIED:20250619T183516Z
UID:10000965-1752777000-1752777000@cwa6222.com
SUMMARY:Centers Dept Mtg
DESCRIPTION:
URL:https://cwa6222.com/event/centers-dept-mtg-5/
END:VEVENT
BEGIN:VEVENT
DTSTART;TZID=America/Chicago:20250717T183000
DTEND;TZID=America/Chicago:20250717T183000
DTSTAMP:20260419T172943
CREATED:20250619T184409Z
LAST-MODIFIED:20250619T184409Z
UID:10000966-1752777000-1752777000@cwa6222.com
SUMMARY:Education Committee Mtg
DESCRIPTION:
URL:https://cwa6222.com/event/education-committee-mtg-3/
END:VEVENT
BEGIN:VEVENT
DTSTART;TZID=America/Chicago:20250717T183000
DTEND;TZID=America/Chicago:20250717T183000
DTSTAMP:20260419T172943
CREATED:20250619T184837Z
LAST-MODIFIED:20250619T184837Z
UID:10000967-1752777000-1752777000@cwa6222.com
SUMMARY:Uverse Dept Mtg/Conf Call
DESCRIPTION:
URL:https://cwa6222.com/event/uverse-dept-mtg-conf-call-3/
END:VEVENT
BEGIN:VEVENT
DTSTART;TZID=America/Chicago:20250717T190000
DTEND;TZID=America/Chicago:20250717T190000
DTSTAMP:20260419T172943
CREATED:20250619T184924Z
LAST-MODIFIED:20250619T184924Z
UID:10000968-1752778800-1752778800@cwa6222.com
SUMMARY:Mobilization & Organizing Committee Mtg
DESCRIPTION:
URL:https://cwa6222.com/event/mobilization-organizing-committee-mtg-7/
END:VEVENT
BEGIN:VEVENT
DTSTART;TZID=America/Chicago:20250717T193000
DTEND;TZID=America/Chicago:20250717T193000
DTSTAMP:20260419T172943
CREATED:20250619T185029Z
LAST-MODIFIED:20250619T185029Z
UID:10000969-1752780600-1752780600@cwa6222.com
SUMMARY:Mobility Retail\, WFH & Techs Dept Mtg/Conf Call
DESCRIPTION:
URL:https://cwa6222.com/event/mobility-retail-wfh-techs-dept-mtg-conf-call-5/
END:VEVENT
BEGIN:VEVENT
DTSTART;TZID=America/Chicago:20250717T193000
DTEND;TZID=America/Chicago:20250717T193000
DTSTAMP:20260419T172943
CREATED:20250619T185113Z
LAST-MODIFIED:20250619T185113Z
UID:10000970-1752780600-1752780600@cwa6222.com
SUMMARY:I&R Dept Mtg/Conf Call
DESCRIPTION:
URL:https://cwa6222.com/event/ir-dept-mtg-conf-call-2/
END:VEVENT
BEGIN:VEVENT
DTSTART;TZID=America/Chicago:20250724T190000
DTEND;TZID=America/Chicago:20250724T190000
DTSTAMP:20260419T172943
CREATED:20250619T185203Z
LAST-MODIFIED:20250619T185203Z
UID:10000971-1753383600-1753383600@cwa6222.com
SUMMARY:Women's Committee Mtg
DESCRIPTION:
URL:https://cwa6222.com/event/womens-committee-mtg-4/
END:VEVENT
BEGIN:VEVENT
DTSTART;TZID=America/Chicago:20250724T193000
DTEND;TZID=America/Chicago:20250724T193000
DTSTAMP:20260419T172943
CREATED:20250619T185312Z
LAST-MODIFIED:20250619T185811Z
UID:10000972-1753385400-1753385400@cwa6222.com
SUMMARY:Community Svcs Committee Mtg
DESCRIPTION:
URL:https://cwa6222.com/event/community-svcs-committee-mtg-3/
END:VEVENT
BEGIN:VEVENT
DTSTART;TZID=America/Chicago:20250730T180000
DTEND;TZID=America/Chicago:20250730T220000
DTSTAMP:20260419T172943
CREATED:20250619T185404Z
LAST-MODIFIED:20250619T185404Z
UID:10000973-1753898400-1753912800@cwa6222.com
SUMMARY:Basic Unionism School
DESCRIPTION:
URL:https://cwa6222.com/event/basic-unionism-school/
END:VEVENT
BEGIN:VEVENT
DTSTART;TZID=America/Chicago:20250731T183000
DTEND;TZID=America/Chicago:20250731T183000
DTSTAMP:20260419T172943
CREATED:20250725T173742Z
LAST-MODIFIED:20250725T173742Z
UID:10001001-1753986600-1753986600@cwa6222.com
SUMMARY:Executive Board Meeting
DESCRIPTION:
URL:https://cwa6222.com/event/executive-board-meeting/
END:VEVENT
BEGIN:VEVENT
DTSTART;TZID=America/Chicago:20250805T180000
DTEND;TZID=America/Chicago:20250805T180000
DTSTAMP:20260419T172943
CREATED:20250725T163945Z
LAST-MODIFIED:20250725T163945Z
UID:10000982-1754416800-1754416800@cwa6222.com
SUMMARY:Legislative Committee Meeting
DESCRIPTION:
URL:https://cwa6222.com/event/legislative-committee-meeting-2/
END:VEVENT
BEGIN:VEVENT
DTSTART;TZID=America/Chicago:20250807T183000
DTEND;TZID=America/Chicago:20250807T183000
DTSTAMP:20260419T172943
CREATED:20250725T164208Z
LAST-MODIFIED:20250725T164208Z
UID:10000983-1754591400-1754591400@cwa6222.com
SUMMARY:Equity Committee Meeting
DESCRIPTION:
URL:https://cwa6222.com/event/equity-committee-meeting-3/
END:VEVENT
BEGIN:VEVENT
DTSTART;TZID=America/Chicago:20250807T193000
DTEND;TZID=America/Chicago:20250807T193000
DTSTAMP:20260419T172943
CREATED:20250725T165003Z
LAST-MODIFIED:20250725T165003Z
UID:10000984-1754595000-1754595000@cwa6222.com
SUMMARY:General Membership Meeting
DESCRIPTION:
URL:https://cwa6222.com/event/general-membership-meeting-8/
END:VEVENT
BEGIN:VEVENT
DTSTART;TZID=America/Chicago:20250813T193000
DTEND;TZID=America/Chicago:20250813T193000
DTSTAMP:20260419T172943
CREATED:20250725T173402Z
LAST-MODIFIED:20250725T173402Z
UID:10001000-1755113400-1755113400@cwa6222.com
SUMMARY:Next Gen Committee Meeting
DESCRIPTION:
URL:https://cwa6222.com/event/next-gen-committee-meeting-2/
END:VEVENT
BEGIN:VEVENT
DTSTART;TZID=America/Chicago:20250814T180000
DTEND;TZID=America/Chicago:20250814T180000
DTSTAMP:20260419T172943
CREATED:20250725T173022Z
LAST-MODIFIED:20250725T173022Z
UID:10000995-1755194400-1755194400@cwa6222.com
SUMMARY:Centers Chief Stwds Mtg
DESCRIPTION:
URL:https://cwa6222.com/event/centers-chief-stwds-mtg/
END:VEVENT
BEGIN:VEVENT
DTSTART;TZID=America/Chicago:20250814T183000
DTEND;TZID=America/Chicago:20250814T183000
DTSTAMP:20260419T172943
CREATED:20250725T163554Z
LAST-MODIFIED:20250725T163554Z
UID:10000981-1755196200-1755196200@cwa6222.com
SUMMARY:Centers Dept Mtg
DESCRIPTION:
URL:https://cwa6222.com/event/centers-dept-mtg-7/
END:VEVENT
BEGIN:VEVENT
DTSTART;TZID=America/Chicago:20250814T190000
DTEND;TZID=America/Chicago:20250814T190000
DTSTAMP:20260419T172943
CREATED:20250725T163213Z
LAST-MODIFIED:20250725T163213Z
UID:10000975-1755198000-1755198000@cwa6222.com
SUMMARY:Women's Committee Mtg
DESCRIPTION:
URL:https://cwa6222.com/event/womens-committee-mtg-6/
END:VEVENT
BEGIN:VEVENT
DTSTART;TZID=America/Chicago:20250814T193000
DTEND;TZID=America/Chicago:20250814T193000
DTSTAMP:20260419T172943
CREATED:20250725T163130Z
LAST-MODIFIED:20250725T163130Z
UID:10000974-1755199800-1755199800@cwa6222.com
SUMMARY:Community Svcs Committee Mtg
DESCRIPTION:
URL:https://cwa6222.com/event/community-svcs-committee-mtg-4/
END:VEVENT
BEGIN:VEVENT
DTSTART;TZID=America/Chicago:20250819T190000
DTEND;TZID=America/Chicago:20250819T190000
DTSTAMP:20260419T172943
CREATED:20250725T173309Z
LAST-MODIFIED:20250725T173309Z
UID:10000999-1755630000-1755630000@cwa6222.com
SUMMARY:Out of Town Conf Call
DESCRIPTION:
URL:https://cwa6222.com/event/out-of-town-conf-call/
END:VEVENT
BEGIN:VEVENT
DTSTART;TZID=America/Chicago:20250821T170000
DTEND;TZID=America/Chicago:20250821T170000
DTSTAMP:20260419T172943
CREATED:20250725T173228Z
LAST-MODIFIED:20250725T173228Z
UID:10000998-1755795600-1755795600@cwa6222.com
SUMMARY:Construction/Engineering Dept Mtg/Conf Call
DESCRIPTION:
URL:https://cwa6222.com/event/construction-engineering-dept-mtg-conf-call/
END:VEVENT
END:VCALENDAR